BEGIN:VCALENDAR
VERSION:2.0
PRODID:-//wp-events-plugin.com//7.2.3.1//EN
TZID:Europe/Berlin
X-WR-TIMEZONE:Europe/Berlin
BEGIN:VEVENT
UID:12208@literaturseiten-muenchen.de
DTSTART;TZID=Europe/Berlin:20260204T173000
DTEND;TZID=Europe/Berlin:20260204T190000
DTSTAMP:20251204T112206Z
URL:https://www.literaturseiten-muenchen.de/veranstaltungen/haben-sie-das-
 schon-gelesen-monatlicher-buecherplausch-17/
SUMMARY:"Haben Sie das schon gelesen?": Monatlicher Bücherplausch
DESCRIPTION:Moderation Sabine Freiwald.\nOb Krimi oder Klassiker\, Roman od
 er Sachbuch: Unser Lesekreis ist offen für alle Leseerlebnisse. Bringen S
 ie 1-2 Bücher mit\, die Sie gerade beschäftigen.\nAnmeldung: stb.giesing
 .kult(at)muenchen.de
CATEGORIES:Lesekreis
LOCATION:Münchner Stadtbibliothek Giesing\, Deisenhofener Str. 20\, Münch
 en\, Bayern\, 81539\, Deutschland
GEO:48.1142939;11.582314999999994
X-APPLE-STRUCTURED-LOCATION;VALUE=URI;X-ADDRESS=Deisenhofener Str. 20\, Mü
 nchen\, Bayern\, 81539\, Deutschland;X-APPLE-RADIUS=100;X-TITLE=Münchner 
 Stadtbibliothek Giesing:geo:48.1142939,11.582314999999994
END:VEVENT
BEGIN:VTIMEZONE
TZID:Europe/Berlin
X-LIC-LOCATION:Europe/Berlin
BEGIN:STANDARD
DTSTART:20251026T020000
TZOFFSETFROM:+0200
TZOFFSETTO:+0100
TZNAME:CET
END:STANDARD
END:VTIMEZONE
END:VCALENDAR