BEGIN:VCALENDAR
VERSION:2.0
PRODID:-//wp-events-plugin.com//7.2.3.1//EN
TZID:Europe/Berlin
X-WR-TIMEZONE:Europe/Berlin
BEGIN:VEVENT
UID:11824@literaturseiten-muenchen.de
DTSTART;TZID=Europe/Berlin:20251111T190000
DTEND;TZID=Europe/Berlin:20251111T203000
DTSTAMP:20250918T120317Z
URL:https://www.literaturseiten-muenchen.de/veranstaltungen/hans-peter-kun
 isch-schach-dem-koenig/
SUMMARY:Hans-Peter Kunisch: Schach dem König
DESCRIPTION:Friedrich der Große und Albert von Hoditz\nAlbert von Hoditz w
 ar ein Genießer und Lebensreformer\, der sein Schloss an der umkämpften 
 Grenze zwischen Österreich und Preußen zu einem „Arkadien in Mähren
 “ machen wollte. Seine Untertanen sollten Künstler werden. Auch Friedri
 ch der Große wurde auf Hoditz aufmerksam. Für Friedrich bedeutete dessen
  freie Existenz in Rosswald\, das er zweimal besuchte\, die Erinnerung an 
 ein verpasstes eigenes Leben. Legendär ist ein Freiluftschachspiel der be
 iden mit „lebenden Figuren“. Friedrichs Beziehung zu Hoditz\, auf den 
 er zwei Gedichte schrieb\, stellt den strengen\, pflichtbewussten König\,
  den der „exzentrische Epikureer“ Hoditz auch in seinen orientalischen
  Harem führte\, in ein neues Licht und dürfte auch Kenner überraschen.\
 n\nHans-Peter Kunisch\, geboren 1962 in der Schweiz\, ist promovierter Ger
 manist und Sohn eines Sudetendeutschen aus einem Nachbardorf von Roßwald/
 Slezské Rudoltice. Jahrzehnte lang hat er vor allem für die Süddeutsch
 e Zeitung und Die Zeit geschrieben. Jetzt lebt er als freier Autor in B
 erlin. 2020 ist erschien dtv Todtnauberg. Die Geschichte von Paul Celan\,
  Martin Heidegger und ihrer unmöglichen Begegnung\, im September 2025 bei
  Reclam Das Flimmern der Raubtierfelle. Rilke und der Faschismus.\n\nEine
  Veranstaltung des Kulturreferats für die böhmischen Länder im Adalbert
  Stifter Verein und des Hauses des Deutschen Ostens.
CATEGORIES:Gespräch / Diskussion,Lesung
LOCATION:Haus des Deutschen Ostens\, Am Lilienberg 5\, München\, 81669 \, 
 Deutschland
GEO:48.130775;11.588826
X-APPLE-STRUCTURED-LOCATION;VALUE=URI;X-ADDRESS=Am Lilienberg 5\, München\
 , 81669 \, Deutschland;X-APPLE-RADIUS=100;X-TITLE=Haus des Deutschen Osten
 s:geo:48.130775,11.588826
END:VEVENT
BEGIN:VTIMEZONE
TZID:Europe/Berlin
X-LIC-LOCATION:Europe/Berlin
BEGIN:STANDARD
DTSTART:20251026T020000
TZOFFSETFROM:+0200
TZOFFSETTO:+0100
TZNAME:CET
END:STANDARD
END:VTIMEZONE
END:VCALENDAR