BEGIN:VCALENDAR
VERSION:2.0
PRODID:-//wp-events-plugin.com//7.2.3.1//EN
TZID:Europe/Berlin
X-WR-TIMEZONE:Europe/Berlin
BEGIN:VEVENT
UID:11717@literaturseiten-muenchen.de
DTSTART;TZID=Europe/Berlin:20251008T193000
DTEND;TZID=Europe/Berlin:20251008T213000
DTSTAMP:20250908T122241Z
URL:https://www.literaturseiten-muenchen.de/veranstaltungen/heinrich-stein
 fest-das-schwarze-manuskript-ein-abend-mit-heinrich-steinfest-ein-fest/
SUMMARY:HEINRICH STEINFEST: Das schwarze Manuskript Ein Abend mit Heinrich 
 Steinfest. Ein Fest!
DESCRIPTION:Moderation: Thomas Tebbe\nAshok Oswald hat diesen Pool bauen la
 ssen\, nachdem er im Alter von 35 Jahren zu einem beträchtlichen Vermöge
 n gekommen war.\nWie jeden Morgen zieht er seine Bahnen durch das kühle W
 asser\, doch dieser Morgen ist besonders:\nDrei Fremde zwingen ihn\, sein 
 Ritual zu unterbrechen und das Manuskript herauszugeben\, das Peter Bischo
 f ihm vor vielen Jahren anvertraute.\nAshok händigt es aus\, aber was ist
  so bedeutsam an diesem Buch\, dass diese Leute zu allem bereit scheinen? 
 Um das herauszufinden\, gibt Ashok sein altes Leben auf.\n\nEin abgründig
 er Roman\, in dem Literatur und Leben sich aufs Originellste kreuzen.\n\nT
 ickets  //  Eintritt: 18 EUR\nVerbindliche Anmeldung unter: moths@li-mo.
 com\nwww.li-mo.com
CATEGORIES:Lesung
LOCATION:Literatur Moths\, Rumfordstr. 48\, München\, Bayern\, 80469\, Sta
 dt\, Deutschland
GEO:48.13356;11.582313
X-APPLE-STRUCTURED-LOCATION;VALUE=URI;X-ADDRESS=Rumfordstr. 48\, München\,
  Bayern\, 80469\, Stadt\, Deutschland;X-APPLE-RADIUS=100;X-TITLE=Literatur
  Moths:geo:48.13356,11.582313
END:VEVENT
BEGIN:VTIMEZONE
TZID:Europe/Berlin
X-LIC-LOCATION:Europe/Berlin
BEGIN:DAYLIGHT
DTSTART:20250330T030000
TZOFFSETFROM:+0100
TZOFFSETTO:+0200
TZNAME:CEST
END:DAYLIGHT
END:VTIMEZONE
END:VCALENDAR