BEGIN:VCALENDAR
VERSION:2.0
PRODID:-//wp-events-plugin.com//7.2.3.1//EN
TZID:Europe/Berlin
X-WR-TIMEZONE:Europe/Berlin
BEGIN:VEVENT
UID:12360@literaturseiten-muenchen.de
DTSTART;TZID=Europe/Berlin:20260427T190000
DTEND;TZID=Europe/Berlin:20260427T203000
DTSTAMP:20260113T155949Z
URL:https://www.literaturseiten-muenchen.de/veranstaltungen/henning-melber
 -faszination-namibia-ein-land-und-seine-traumata/
SUMMARY:Henning Melber: Faszination Namibia. Ein Land und seine Traumata
DESCRIPTION:Deutsch-Südwestafrika war die einzige deutsche Kolonie\, in de
 r sich Siedler in größerer Zahl niederließen. Bis heute sind die Spuren
  deutscher Kultur und rücksichtsloser deutscher Herrschaft allgegenwärti
 g. Henning Melber erzählt die Geschichte Namibias von den frühen Gesells
 chaften über die koloniale Unterdrückung bis zur demokratischen Gegenwar
 t. Ein eindrucksvolles\, kenntnisreiches Porträt eines großen Landes\, d
 essen Geschichte vielfältig mit der deutschen verwoben ist.\n\nProf. Dr. 
 Henning Melber\nist Politologe und Soziologe\, war Forschungsdirektor am N
 ordic Africa Institute in Uppsala und ist Extraordinary Professor in Preto
 ria und Bloemfontein. Als Jugendlicher nach Namibia gekommen\, trat er 197
 4 der Befreiungsbewegung SWAPO bei\, deren Mitglied er bis 2025 war. Er ha
 t sich in wissenschaftlichen und zivilgesellschaftlichen Funktionen für N
 amibia eingesetzt und zahlreiche Publikationen zu Geschichte und Gegenwart
  des Landes vorgelegt.\n\nAnmeldung unter:\nhttps://www.stadtakademie-muen
 chen.de/veranstaltung/faszination-namibia/
CATEGORIES:Buchpräsentation,Gespräch / Diskussion,Lesung,Vortrag
LOCATION:Evangelische Stadtakademie München\, Herzog-Wilhelm-Straße 24\, 
 München\, 80331\, Deutschland
GEO:48.135242;11.566574
X-APPLE-STRUCTURED-LOCATION;VALUE=URI;X-ADDRESS=Herzog-Wilhelm-Straße 24\,
  München\, 80331\, Deutschland;X-APPLE-RADIUS=100;X-TITLE=Evangelische St
 adtakademie München:geo:48.135242,11.566574
END:VEVENT
BEGIN:VTIMEZONE
TZID:Europe/Berlin
X-LIC-LOCATION:Europe/Berlin
BEGIN:DAYLIGHT
DTSTART:20260329T030000
TZOFFSETFROM:+0100
TZOFFSETTO:+0200
TZNAME:CEST
END:DAYLIGHT
END:VTIMEZONE
END:VCALENDAR