BEGIN:VCALENDAR
VERSION:2.0
PRODID:-//wp-events-plugin.com//7.2.3.1//EN
TZID:Europe/Berlin
X-WR-TIMEZONE:Europe/Berlin
BEGIN:VEVENT
UID:11857@literaturseiten-muenchen.de
DTSTART;TZID=Europe/Berlin:20251111T190000
DTEND;TZID=Europe/Berlin:20251111T203000
DTSTAMP:20251002T152647Z
URL:https://www.literaturseiten-muenchen.de/veranstaltungen/herbst-mix-tex
 te-toene-comic-getraenke-mit-sophia-klink-martin-oesch-maya-rosa/
SUMMARY:»Herbst-Mix« Texte &amp\; Töne\, Comic &amp\; Getränke mit Soph
 ia Klink\, Martin Oesch &amp\; Maya Rosa
DESCRIPTION:Moderation: Katrin Lange\, Marion Bösker-von Paucker &amp\; Al
 ke Wendlandt\n\nAm Kurilensee in Kamtschatka kämpft die Biologin Anna geg
 en Klimawandel und Überfischung. Es ist ein Wettlauf gegen die Zeit. Soph
 ia Klink lässt die Grenzen zwischen Forschung und Poesie verschwimmen\; 
 »Kurilensee« (FVA) ist ein literarisches Abenteuer und Nature Writing at
  its best.\nKarina und Tonya sind beste Freundinnen. Sie studieren in Mosk
 au und teilen alles: betrunkene Männer\, leere Geldbörsen\, und das Ziel
 \, nach Europa auszuwandern. Das Private ist immer politisch – oder umge
 kehrt? Maya Rosa erzählt mit Scharfsinn und Witz vom Freiheitstraum der N
 ullerjahre (»Moscow Mule« // Penguin).\nErwin ist Metzgermeister und das
  sehr gerne. Seit Jahrzehnten führt er eine eigene Metzgerei im Stadtzent
 rum. Doch der Beruf ist nicht mehr das\, was er einst war\, und darunter l
 eidet auch die Beziehung zu seiner Frau. »Fleischeslust« (Edition Modern
 e) ist die preisgekrönte Graphic Novel des Schweizer Comic-Künstlers und
  Bio-Metzgers Martin Oesch. Drei großartige Debüts\, dazu Lieblingsmusik
  und gute Getränke – der Herbst-Mix ist angerichtet.\n\nTickets erhält
 lich unter Reservix\nEINTRITT: EURO 10.- / 5.-\n\nVeranstalter: Stiftung L
 iteraturhaus
CATEGORIES:Gespräch / Diskussion,Lesung,Literatur &amp; Musik
LOCATION:Literaturhaus München\, Salvatorplatz 1\, München\, Bayern\, 803
 33\, Deutschland
GEO:48.142051;11.574991
X-APPLE-STRUCTURED-LOCATION;VALUE=URI;X-ADDRESS=Salvatorplatz 1\, München\
 , Bayern\, 80333\, Deutschland;X-APPLE-RADIUS=100;X-TITLE=Literaturhaus M
 ünchen:geo:48.142051,11.574991
END:VEVENT
BEGIN:VTIMEZONE
TZID:Europe/Berlin
X-LIC-LOCATION:Europe/Berlin
BEGIN:STANDARD
DTSTART:20251026T020000
TZOFFSETFROM:+0200
TZOFFSETTO:+0100
TZNAME:CET
END:STANDARD
END:VTIMEZONE
END:VCALENDAR