BEGIN:VCALENDAR
VERSION:2.0
PRODID:-//wp-events-plugin.com//7.2.3.1//EN
TZID:Europe/Berlin
X-WR-TIMEZONE:Europe/Berlin
BEGIN:VEVENT
UID:11923@literaturseiten-muenchen.de
DTSTART;TZID=Europe/Berlin:20251112T193000
DTEND;TZID=Europe/Berlin:20251112T210000
DTSTAMP:20251014T191633Z
URL:https://www.literaturseiten-muenchen.de/veranstaltungen/hoffnungslicht
 er-in-verfahrenen-zeiten/
SUMMARY:Hoffnungslichter in verfahrenen Zeiten
DESCRIPTION:Das Epos der Demokratie\, die Erzählung von der freien Rede\, 
 der große Roman von der Gleichheit: Ausgelesen? Kommt da nichts mehr? Ist
  das letzte Wort gesprochen? Kommen jetzt wieder die Heldenerzählungen de
 r Autokraten\, kommen die Blut-und-Boden-Schmonzetten? In den USA werden B
 ücher aus dem Handel genommen und aus Bibliotheken verbannt. In Ungarn ha
 ben es „queere Bücher“ schwer in den Buchhandlungen\, weil Selbstzens
 ur geübt wird.\nMit einer Lesung aus dem Werk von Sibylla Schwarz (1621 b
 is 1638) und Hilde Domin (1909 – 2006) und eigener Lyrik.\nEs sprechen u
 nd lesen: Vera Botterbusch und Simone Barrientos\, Einleitung durch Leande
 r Sukov.\nEintritt frei\, um Spenden wird gebeten.
CATEGORIES:Lesung
LOCATION:Seidlvilla\, Nikolaiplatz 1b\, München\, 80802\, Deutschland
GEO:48.15867;11.587729999999965
X-APPLE-STRUCTURED-LOCATION;VALUE=URI;X-ADDRESS=Nikolaiplatz 1b\, München\
 , 80802\, Deutschland;X-APPLE-RADIUS=100;X-TITLE=Seidlvilla:geo:48.15867,1
 1.587729999999965
END:VEVENT
BEGIN:VTIMEZONE
TZID:Europe/Berlin
X-LIC-LOCATION:Europe/Berlin
BEGIN:STANDARD
DTSTART:20251026T020000
TZOFFSETFROM:+0200
TZOFFSETTO:+0100
TZNAME:CET
END:STANDARD
END:VTIMEZONE
END:VCALENDAR