BEGIN:VCALENDAR
VERSION:2.0
PRODID:-//wp-events-plugin.com//7.2.3.1//EN
TZID:Europe/Berlin
X-WR-TIMEZONE:Europe/Berlin
BEGIN:VEVENT
UID:12144@literaturseiten-muenchen.de
DTSTART;TZID=Europe/Berlin:20251213T200000
DTEND;TZID=Europe/Berlin:20251213T200000
DTSTAMP:20251116T211918Z
URL:https://www.literaturseiten-muenchen.de/veranstaltungen/hubertus-koch-
 lost-boy/
SUMMARY:Hubertus Koch „Lost Boy“
DESCRIPTION:Hubertus Koch weiß\, was es heißt\, auszubrennen. Jahrelang f
 ührte er ein Leben als High Performer – sein eigener Hustle machte ihn 
 einem größeren Publikum bekannt. Ob politische Reportagen\, Interviews m
 it Musiker*innen oder Videos über seine eigene Suchtgeschichte. Sowohl in
  journalistischer Arbeit als auch in persönlichen Videos legte er dabei e
 in Maß an Ehrlichkeit an den Tag\, das in der Medienwelt schwer zu finden
  ist.\n\nNun begeht der in Bremen lebende Journalist neue Wege und veröff
 entlicht sein erstes Buch: in LOST BOY reflektiert Hubertus Koch jene Them
 en\, über die er so noch nie gesprochen hat: über die Klischees einer Me
 dienwelt\, Burnout und Hustle Culture\, die Überforderung mit Weltschmerz
 \, Drogenexzesse und die Schwierigkeit\, echte Beziehungen einzugehen. Die
  Themen seines Lebens\, verpackt in die autobiographische Erzählung einer
  Rucksackreise durch Bosnien\, Albanien und Montenegro. In Zeiten durchorg
 anisierter Urlaube und optimierten Lebens ist LOST BOY zugleich schroffe A
 brechnung und zarter Love-Song\, eine Ode an das Chaos und das analoge\, u
 ngeplante Reisen voller ehrlicher Begegnungen. LOST BOY zeigt\, dass diese
  hässliche Welt so viel Schönes zu bieten hat: wenn man nichts von ihr w
 ill und statt auf etwas hinzuarbeiten\, einfach nur beobachtet. Das Buch e
 rscheint im März im Ullstein Verlag.\n\nMit LOST BOY schlägt Hubertus Ko
 ch ein neues Kapitel auf. Er macht etwas\, was er vorher noch nie gemacht 
 hat: er geht auf Tour – auf Lesetour! Jetzt trifft er persönlich auf se
 in Publikum– und nicht nur in Internet Kommentarspalten. Im Gepäck hat 
 er die persönlichste Arbeit\, die er je gefertigt hat. In dieser greift e
 r die die Themen der Zeit auf\, ohne Trends hinterherzulaufen – mit sein
 er ganz eigenen Haltung und Sprache.\n\nTickets: Eventim\, 33\,70€
CATEGORIES:Lesung
LOCATION:Fat Cat\, Kleiner Konzertsaal\, Kellerstraße 8a\, München\, Deut
 schland
GEO:48.131422;11.5925
X-APPLE-STRUCTURED-LOCATION;VALUE=URI;X-ADDRESS=Kellerstraße 8a\, München
 \, Deutschland;X-APPLE-RADIUS=100;X-TITLE=Fat Cat\, Kleiner Konzertsaal:ge
 o:48.131422,11.5925
END:VEVENT
BEGIN:VTIMEZONE
TZID:Europe/Berlin
X-LIC-LOCATION:Europe/Berlin
BEGIN:STANDARD
DTSTART:20251026T020000
TZOFFSETFROM:+0200
TZOFFSETTO:+0100
TZNAME:CET
END:STANDARD
END:VTIMEZONE
END:VCALENDAR