BEGIN:VCALENDAR
VERSION:2.0
PRODID:-//wp-events-plugin.com//7.2.3.1//EN
TZID:Europe/Berlin
X-WR-TIMEZONE:Europe/Berlin
BEGIN:VEVENT
UID:12372@literaturseiten-muenchen.de
DTSTART;TZID=Europe/Berlin:20260129T200000
DTEND;TZID=Europe/Berlin:20260130T200000
DTSTAMP:20260114T164614Z
URL:https://www.literaturseiten-muenchen.de/veranstaltungen/i-have-a-story
 -for-you-die-unglaubliche-geschichte-des-alexander-shmuel-schneider/
SUMMARY:I HAVE A STORY FOR YOU - Die unglaubliche Geschichte des Alexander 
 Shmuel Schneider
DESCRIPTION:\n\n\nMit Burchard Dabinnus und Ilanit Ilia\n\nShmuel Schneider
  ist zwölf Jahre alt\, als er und seine Familie im Frühsommer 1944 aus U
 ngarn deportiert werden. Trotz des totalen Horrors um ihn herum\, hält si
 ch Shmuel mit Intelligenz und aberwitziger Waghalsigkeit am Leben. Er läs
 st sich weder physisch noch psychisch vernichten. Seine enge Bindung an j
 üdische Kultur und Religion hilft ihm dabei.\n\nWie bei Rivka von Judith 
 Herzberg als auch bei Shmuel Schneiders Geschichte\, steht das Überleben 
 von jungen jüdischen Menschen während des Holocaust im Mittelpunkt.\n\nI
 lanit Ilia\, israelische Historikerin und Autorin in München und Burchard
  Dabinnus\, Theatermacher und Rundfunksprecher laden Sie zum/zur ersten Ab
 end/Try-Out/Station dieses Projekts ins TamS Theater ein. Burchard Dabinnu
 s und Ilanit Ilia erzählen in persönlicher Moderation und szenischen Ele
 menten von Shmuel Schneider und seiner „Story“. Fragen können im Ansc
 hluss bei einem Publikumsgespräch gerne gestellt werden.\n\nMit freundlic
 her Unterstützung durch das Kulturreferat der Landeshauptstadt München\n
 \n\n\n\n\n\nam Donnerstag 29. und Freitag 30. Januar um 20 Uhr\n\n\n
CATEGORIES:Gespräch / Diskussion,Lesung,Literatur &amp; Musik
LOCATION:TamS Theater\, Haimhauserstrasse 13a\, München\, 80802\, Bayern\,
  Deutschland
GEO:48.1623242;11.590158100000053
X-APPLE-STRUCTURED-LOCATION;VALUE=URI;X-ADDRESS=Haimhauserstrasse 13a\, Mü
 nchen\, 80802\, Bayern\, Deutschland;X-APPLE-RADIUS=100;X-TITLE=TamS Theat
 er:geo:48.1623242,11.590158100000053
END:VEVENT
BEGIN:VTIMEZONE
TZID:Europe/Berlin
X-LIC-LOCATION:Europe/Berlin
BEGIN:STANDARD
DTSTART:20251026T020000
TZOFFSETFROM:+0200
TZOFFSETTO:+0100
TZNAME:CET
END:STANDARD
END:VTIMEZONE
END:VCALENDAR