BEGIN:VCALENDAR
VERSION:2.0
PRODID:-//wp-events-plugin.com//7.2.3.1//EN
TZID:Europe/Berlin
X-WR-TIMEZONE:Europe/Berlin
BEGIN:VEVENT
UID:12682@literaturseiten-muenchen.de
DTSTART;TZID=Europe/Berlin:20260413T180000
DTEND;TZID=Europe/Berlin:20260413T200000
DTSTAMP:20260304T131515Z
URL:https://www.literaturseiten-muenchen.de/veranstaltungen/ich-erinnere-m
 ich-geschichten-aus-dem-leben-schreiben-2/
SUMMARY:"Ich erinnere mich!" Geschichten aus dem Leben schreiben
DESCRIPTION:Unsere Lebensgeschichte setzt sich aus unzähligen Erinnerungen
  zusammen: an wunderbare und traurige\, lichte und dunkle\, spannende und 
 entscheidende Momente\, an erfolgreiche und glückliche Phasen oder Period
 en des Wartens und des Neuanfangs. Diese Erinnerungen sind die Geschichten
  in uns – und stehen im Zentrum dieser kreativen Schreibwerkstatt. Mit v
 ielen praktischen Übungen und im Austausch mit anderen lassen Sie Geschic
 hten aus Ihren Erinnerungen entstehen – geschrieben für Sie selbst und 
 andere.\n\nKursnummer: W247030\n\nDozent: Walter Zauner\n\nGebühr: € 65
 \,-\n\nTermine: 13.04.2026\, 20.04.2026\, 11.05.2026\, 18.05.2026\n\nWeite
 re Informationen finden Sie unter: https://www.mvhs.de/kurse/kultur-kunst
 -kreativitaet/kreatives-schreiben/schreibtechniken/ich-erinnere-mich/gesch
 ichten-aus-dem-leben-schreiben-460-C-W247030
CATEGORIES:Schreibwerkstatt
LOCATION:MVHS Pasing\, Bäckerstr. 14\, München\, Deutschland
GEO:48.1456614;11.461415399999964
X-APPLE-STRUCTURED-LOCATION;VALUE=URI;X-ADDRESS=Bäckerstr. 14\, München\,
  Deutschland;X-APPLE-RADIUS=100;X-TITLE=MVHS Pasing:geo:48.1456614,11.4614
 15399999964
END:VEVENT
BEGIN:VTIMEZONE
TZID:Europe/Berlin
X-LIC-LOCATION:Europe/Berlin
BEGIN:DAYLIGHT
DTSTART:20260329T030000
TZOFFSETFROM:+0100
TZOFFSETTO:+0200
TZNAME:CEST
END:DAYLIGHT
END:VTIMEZONE
END:VCALENDAR