BEGIN:VCALENDAR
VERSION:2.0
PRODID:-//wp-events-plugin.com//7.2.3.1//EN
TZID:Europe/Berlin
X-WR-TIMEZONE:Europe/Berlin
BEGIN:VEVENT
UID:11601@literaturseiten-muenchen.de
DTSTART;TZID=Europe/Berlin:20250917T200000
DTEND;TZID=Europe/Berlin:20250917T200000
DTSTAMP:20250815T171221Z
URL:https://www.literaturseiten-muenchen.de/veranstaltungen/isar-slam-poet
 ry-slam-2/
SUMMARY:Isar Slam – Poetry Slam
DESCRIPTION:Hochkarätig besetztes Slam-Poeten-Wettstreiten\n\nAuf der Ampe
 re-Bühne treffen einige der erfolgreichsten Slam Poet*innen des deutschsp
 rachigen Raums auf Bühnenneulinge oder Newcomer*innen. Egal\, ob gereimt 
 oder erzählend\, ernst oder lustig\, der Isar Slam zeigt die ganze Bandbr
 eite des Formats und garantiert einen unterhaltsamen wie anregenden Abend.
 \n\nAm Mi 17.9. sind mit dabei:\n\n 	Illegitim (Berlin) – Slammerin\, Mu
 sikerin und Moderatorin des Queer Slam Berlin\n 	Cris Ortega (Erlangen) 
 – Bayerischer Vizemeister 2024\n 	Svea Paul (München) – Drittplatzier
 te der Bayerischen- und Deutschsprachigen U20-Meisterschaften\n 	Julian Gr
 oßmann (Berlin) – Finalist der Deutschsprachigen Meisterschaften 2024\n
  	Lena Krebs (Regensburg) zweimalige Finalistin der Bayerischen Meistersch
 aften\n\nTIckets: Eventim\, ab 15€
CATEGORIES:Lesung,PoetrySlam
LOCATION:Ampere / Muffatwerk\, Zellstrasse 4 \, München\, Bayern\, 81667\,
  München\, Deutschland
GEO:48.13321;11.589709999999968
X-APPLE-STRUCTURED-LOCATION;VALUE=URI;X-ADDRESS=Zellstrasse 4 \, München\,
  Bayern\, 81667\, München\, Deutschland;X-APPLE-RADIUS=100;X-TITLE=Ampere
  / Muffatwerk:geo:48.13321,11.589709999999968
END:VEVENT
BEGIN:VTIMEZONE
TZID:Europe/Berlin
X-LIC-LOCATION:Europe/Berlin
BEGIN:DAYLIGHT
DTSTART:20250330T030000
TZOFFSETFROM:+0100
TZOFFSETTO:+0200
TZNAME:CEST
END:DAYLIGHT
END:VTIMEZONE
END:VCALENDAR