BEGIN:VCALENDAR
VERSION:2.0
PRODID:-//wp-events-plugin.com//7.2.3.1//EN
TZID:Europe/Berlin
X-WR-TIMEZONE:Europe/Berlin
BEGIN:VEVENT
UID:12181@literaturseiten-muenchen.de
DTSTART;TZID=Europe/Berlin:20260227T190000
DTEND;TZID=Europe/Berlin:20260227T204500
DTSTAMP:20251125T124218Z
URL:https://www.literaturseiten-muenchen.de/veranstaltungen/ja-frueher-tuc
 holskys-schriften-von-1907-1932/
SUMMARY:„Ja\, früher …!“ Tucholskys Schriften von 1907 – 1932
DESCRIPTION:Kurt Tucholskys Texte (1907–1932) spiegeln seine persönliche
  und politische Entwicklung wider. Vom humorvollen Beobachter wird er zum 
 kritischen Feuilletonisten\, der den Ersten Weltkrieg\, das Kaiserreich un
 d die Weimarer Republik scharf analysiert. Er setzt sich für Frieden\, Ge
 rechtigkeit und Aussöhnung ein\, besonders mit Frankreich. Früh warnt er
  vor dem Nationalsozialismus. 1933 emigriert er nach Schweden\, verstummt 
 dort – ein tragisches Ende eines der bedeutendsten Publizisten seiner Ze
 it.\n\nMit: Herbert Fischer &amp\; Christian Holzer (Gitarre)\n\nEinlass: 
 18:30 Uhr\nBeginn: 19:00 Uhr\nEnde: 20:45 Uhr\n\nEintritt:\nFair-Preis 12\
 ,00 €\nMid-Preis 8\,00 €\nSozial-Preis 5\,00 €\n\nTickets unter:\nku
 ltur-neueziegelei@brk-muenchen.de
CATEGORIES:Lesung,Literatur &amp; Musik
LOCATION:Neue Ziegelei - Zentrum für Soziales und Kultur\, Ruth-Drexel-Str
 . 34\, München\, 81927\, Deutschland
GEO:48.163587;11.630843
X-APPLE-STRUCTURED-LOCATION;VALUE=URI;X-ADDRESS=Ruth-Drexel-Str. 34\, Münc
 hen\, 81927\, Deutschland;X-APPLE-RADIUS=100;X-TITLE=Neue Ziegelei - Zentr
 um für Soziales und Kultur:geo:48.163587,11.630843
END:VEVENT
BEGIN:VTIMEZONE
TZID:Europe/Berlin
X-LIC-LOCATION:Europe/Berlin
BEGIN:STANDARD
DTSTART:20251026T020000
TZOFFSETFROM:+0200
TZOFFSETTO:+0100
TZNAME:CET
END:STANDARD
END:VTIMEZONE
END:VCALENDAR