BEGIN:VCALENDAR
VERSION:2.0
PRODID:-//wp-events-plugin.com//7.2.3.1//EN
TZID:Europe/Berlin
X-WR-TIMEZONE:Europe/Berlin
BEGIN:VEVENT
UID:11919@literaturseiten-muenchen.de
DTSTART;TZID=Europe/Berlin:20251109T180000
DTEND;TZID=Europe/Berlin:20251109T180000
DTSTAMP:20251014T192235Z
URL:https://www.literaturseiten-muenchen.de/veranstaltungen/jeder-mensch-h
 at-einen-namen/
SUMMARY:Jeder Mensch hat einen Namen
DESCRIPTION:Zum Gedenken an den 87. Jahrestag der so genannten »Reichskris
 tallnacht« vom 9. November 1938\n\nGrußworte des OB Dieter Reiter und de
 r IKG-Präsidentin Dr. h. c. mult. Charlotte Knobloch\n\n Vortrag\n\nvon 
 Prof. Dr. Frank Bajohr\n\n»Alle anständigen Menschen müssten mit Absche
 u von dieser Nazi-Partei abrücken«\n\nMoralische (Selbst-) Vergewisserun
 g in der NS-Zeit 1933-1945\n\nLesung\n\nzu Biographien vertriebener sowie 
 ermordeter einstiger jüdischer Schüler des Maximiliansgymnasiums und ihr
 er Familien\n\nMusikalische Umrahmung\n\nGestaltung von Lesung und Musikbe
 itrag durch Schülerinnen und Schüler des Maximiliansgymnasiums München\
 n\nEintritt frei\n\nAnmeldung unbedingt unter www.nsdoku.de/programm\n\nVe
 ranstaltungsort: Saal des Alten Rathauses\, Marienplatz 15\, 80331 Münche
 n\n\nDie Gedenkveranstaltung wird live übertragen auf https://www.youtube
 .com/nsdoku
CATEGORIES:Ausstellungen,Lesung,Literatur &amp; Musik,Vortrag
LOCATION:Altes Rathaus\, Marienplatz 15\, München\, Deutschland
GEO:48.136777;11.576988
X-APPLE-STRUCTURED-LOCATION;VALUE=URI;X-ADDRESS=Marienplatz 15\, München\,
  Deutschland;X-APPLE-RADIUS=100;X-TITLE=Altes Rathaus:geo:48.136777,11.576
 988
END:VEVENT
BEGIN:VTIMEZONE
TZID:Europe/Berlin
X-LIC-LOCATION:Europe/Berlin
BEGIN:STANDARD
DTSTART:20251026T020000
TZOFFSETFROM:+0200
TZOFFSETTO:+0100
TZNAME:CET
END:STANDARD
END:VTIMEZONE
END:VCALENDAR