BEGIN:VCALENDAR
VERSION:2.0
PRODID:-//wp-events-plugin.com//7.2.3.1//EN
TZID:Europe/Berlin
X-WR-TIMEZONE:Europe/Berlin
BEGIN:VEVENT
UID:11808@literaturseiten-muenchen.de
DTSTART;TZID=Europe/Berlin:20251016T193000
DTEND;TZID=Europe/Berlin:20251016T193000
DTSTAMP:20250916T080515Z
URL:https://www.literaturseiten-muenchen.de/veranstaltungen/kay-matter-hel
 ena-oder-stay-safe-and-sorry-muskeln-aus-plastik/
SUMMARY:Kay Matter: „Helena oder Stay safe and sorry“ / „Muskeln aus 
 Plastik“
DESCRIPTION:Die vielfach ausgezeichnete Autor*in gastiert mit zwei Arbeiten
  im Literatur:Raum.\nWir freuen uns\, denn eine besondere Gäst*in eröffn
 et die neue Spielzeit des Literatur:Raum: Gemeinsam mit Ensemblemitglieder
 n der Kammerspiele liest Kay Matter aus dem Theaterstück „Helena oder S
 tay safe and sorry“ sowie aus dem Prosawerk „Muskeln aus Plastik“. D
 as Autor*innen-Gespräch führt die Kuratorin der Reihe\, Dîlan Z. Çapan
 .\n\nHelena wird heimgeholt: von ihrem Freund Menelaos\, der ihr nachflieg
 t und darauf besteht\, dass sie ihren Urlaub auf dem Kreuzfahrtschiff abbr
 icht. Aber vor allem wird Helena heimgesucht: von dem kurzen Moment der Be
 gegnung mit einem Pottwal\, der ihre Perspektive grundsätzlich verschiebt
 . Sie kann sich nicht länger abspalten von den nichtmenschlichen Mitbewoh
 ner*innen dieses Planeten\, Helena hat verlernt\, ihren Schrei zu überhö
 ren: Die Tiere machen sich bemerkbar\, sie starren zurück und heben zur K
 lage an. Wie umgehen mit dem Paradox\, Teil eines Ökosystems zu sein und 
 zugleich eines Wirtschaftssystems\, das die Lebensgrundlagen aller\, auch 
 der nichtmenschlichen Existenzen\, zerstört? „Helena oder Stay safe and
  sorry“ erzählt von diesem großen Konflikt und erfindet Figuren\, die 
 dabei in einen fiebrig überhitzten Zustand geraten. Ihr ohnmächtiger\, 
 übersteuerter Aktionismus kommt uns bekannt vor und bringt uns definitiv 
 zum Lachen.\n\nKay ist schwer verknallt – und schwer erkrankt. Auf den C
 rush folgt jedes Mal ein Crash\, auf starkes Herzklopfen Migräne\, auf Kn
 utschen Gliederschmerzen. Während Kay versucht\, den Folgen von Long Covi
 d zu entkommen\, bringen nur die Sehnsucht nach Aron und der Wunsch nach e
 inem starken\, androgynen Körper Linderung. „Muskeln aus Plastik“ bes
 chäftigt sich mit chronischer Erkrankung und Transness – und der Art un
 d Weise\, wie unsere Gesellschaft über „gesunde“ Körper nachdenkt un
 d spricht. Jenseits aller formalen und intellektuellen Traditionen untersu
 cht Kay Matter die dünne Linie zwischen Lust und Schmerz und erdenkt dabe
 i neue Formen von Care\, Intimität und queerem Widerstand – das Ergebni
 s ist ein beeindruckendes\, intuitives und bewegendes Debüt.\n\nMit: Kay 
 Matter\, Ensemble\n\nKuration &amp\; Moderation: Dîlan Z. Çapan\n\nTicke
 ts: 10/8/5€
CATEGORIES:Gespräch / Diskussion,Lesung
LOCATION:Werkraum Münchner Kammerspiele\, Hildegardstraße 1\, München\, 
 80539\, Deutschland
GEO:48.137692;11.581896
X-APPLE-STRUCTURED-LOCATION;VALUE=URI;X-ADDRESS=Hildegardstraße 1\, Münch
 en\, 80539\, Deutschland;X-APPLE-RADIUS=100;X-TITLE=Werkraum Münchner Kam
 merspiele:geo:48.137692,11.581896
END:VEVENT
BEGIN:VTIMEZONE
TZID:Europe/Berlin
X-LIC-LOCATION:Europe/Berlin
BEGIN:DAYLIGHT
DTSTART:20250330T030000
TZOFFSETFROM:+0100
TZOFFSETTO:+0200
TZNAME:CEST
END:DAYLIGHT
END:VTIMEZONE
END:VCALENDAR