BEGIN:VCALENDAR
VERSION:2.0
PRODID:-//wp-events-plugin.com//7.2.3.1//EN
TZID:Europe/Berlin
X-WR-TIMEZONE:Europe/Berlin
BEGIN:VEVENT
UID:12652@literaturseiten-muenchen.de
DTSTART;TZID=Europe/Berlin:20260415T180000
DTEND;TZID=Europe/Berlin:20260415T193000
DTSTAMP:20260303T130930Z
URL:https://www.literaturseiten-muenchen.de/veranstaltungen/kein-ende-abzu
 sehen-literatur-in-den-usa-und-der-rassismus/
SUMMARY:Kein Ende abzusehen: Literatur in den USA und der Rassismus
DESCRIPTION:Trotz der Errungenschaften der Bürgerrechtsbewegung und etlich
 er liberaler Bestrebungen belegen immer wieder auftauchende Übergriffe vo
 n Polizei und neuerdings auch der Einwanderungsbehörde ICE die andauernde
  Gegenwart des Rassismus in den USA. Fragwürdige Rechtsprechungen und Jus
 tizurteile vervollständigen das Bild eines tief in Rassismus und Ressenti
 ments verstrickten Landes. Die Literatur reagiert darauf mit starken\, ein
 dringlichen Texten voller Empathie und Kritik - von den 1960er Jahren bis 
 in die Gegenwart.\n\n- Harper Lee\, Wer die Nachtigall stört (15. April)\
 n- James Baldwin\, Beale Street Blues (22. April)\n- Philip Roth\, Der men
 schliche Makel (29. April)\n- Colson Whitehead\, Underground Railroad (6. 
 Mai)\n\nKursnummer: W241050\n\nDozent: Stefan Winter\n\nGebühr: € 36\,-
  einzeln buchbar (Einzelticket € 9\,-)\n\nWeitere Informationen finden S
 ie unter: https://www.mvhs.de/kurse/kultur-kunst-kreativitaet/literatur/l
 iterarische-augenblicke/kein-ende-abzusehen-literatur-in-den-usa-und-der-r
 assismus-460-C-W241050
CATEGORIES:Vortrag
LOCATION:MVHS im HP8\, Hans-Preißinger-Str. 8 \, München\, Deutschland\, 
 81379\, Sendling\, Deutschland
GEO:48.110833;11.553216
X-APPLE-STRUCTURED-LOCATION;VALUE=URI;X-ADDRESS=Hans-Preißinger-Str. 8 \, 
 München\, Deutschland\, 81379\, Sendling\, Deutschland;X-APPLE-RADIUS=100
 ;X-TITLE=MVHS im HP8:geo:48.110833,11.553216
END:VEVENT
BEGIN:VTIMEZONE
TZID:Europe/Berlin
X-LIC-LOCATION:Europe/Berlin
BEGIN:DAYLIGHT
DTSTART:20260329T030000
TZOFFSETFROM:+0100
TZOFFSETTO:+0200
TZNAME:CEST
END:DAYLIGHT
END:VTIMEZONE
END:VCALENDAR