BEGIN:VCALENDAR
VERSION:2.0
PRODID:-//wp-events-plugin.com//7.2.3.1//EN
TZID:Europe/Berlin
X-WR-TIMEZONE:Europe/Berlin
BEGIN:VEVENT
UID:11774@literaturseiten-muenchen.de
DTSTART;TZID=Europe/Berlin:20251115T200000
DTEND;TZID=Europe/Berlin:20251115T223000
DTSTAMP:20250913T143057Z
URL:https://www.literaturseiten-muenchen.de/veranstaltungen/kietmeistersch
 aft-nr-212/
SUMMARY:Kietmeisterschaft Nr. 212
DESCRIPTION:In Münchens traditionsreichster Poetry Slam mit offener Liste 
 für alle Vortragswilligen. 5 Minuten Zeit\, 50 EUR Preisgeld und 5 EUR Ei
 ntritt für Zuschauende.
CATEGORIES:Lesung
LOCATION:Kult56\, Ursulastr. 9\, München\, 80802\, Deutschland
GEO:48.16191;11.590799
X-APPLE-STRUCTURED-LOCATION;VALUE=URI;X-ADDRESS=Ursulastr. 9\, München\, 8
 0802\, Deutschland;X-APPLE-RADIUS=100;X-TITLE=Kult56:geo:48.16191,11.59079
 9
END:VEVENT
BEGIN:VTIMEZONE
TZID:Europe/Berlin
X-LIC-LOCATION:Europe/Berlin
BEGIN:STANDARD
DTSTART:20251026T020000
TZOFFSETFROM:+0200
TZOFFSETTO:+0100
TZNAME:CET
END:STANDARD
END:VTIMEZONE
END:VCALENDAR