BEGIN:VCALENDAR
VERSION:2.0
PRODID:-//wp-events-plugin.com//7.2.3.1//EN
TZID:Europe/Berlin
X-WR-TIMEZONE:Europe/Berlin
BEGIN:VEVENT
UID:11619@literaturseiten-muenchen.de
DTSTART;TZID=Europe/Berlin:20250930T190000
DTEND;TZID=Europe/Berlin:20250930T220000
DTSTAMP:20250821T140841Z
URL:https://www.literaturseiten-muenchen.de/veranstaltungen/kinder-als-opf
 er-von-flucht-und-vertreibung/
SUMMARY:Kinder als Opfer von Flucht und Vertreibung
DESCRIPTION:\n\n\n\nTermin: Dienstag\, 30. September 2025\, 19.00 Uhr\n\nR
 eferent: Professor Dr. Andreas Otto Weber (Direktor des HDO)\n\nOrt: Hau
 s des Deutschen Ostens\, Am Lilienberg 5\, 81669 München\n\nAnmeldung erf
 orderlich: telefonisch unter 089-449993-0 oder per E-Mail unter poststel
 le(at)hdo.bayern.de\n\n\n\n\n\n\n\nDas nahende Ende des zweiten Weltkriegs
  und das Heranrücken der Roten Armee nach Westen\, führte in verschieden
 en Regionen im Osten des Deutschen Reichs im Januar 1945 zu einer Fluchtwe
 lle von über drei Millionen Menschen von Ost nach West. Unter den Flücht
 enden waren mehr als eine Million Kinder und Jugendliche. Auch von den Ver
 treibungen vor und nach der Potsdamer Konferenz 1945 waren Millionen von K
 indern und Jugendlichen betroffen.\n\nAuch wenn seit den 1990er Jahren vie
 le Veröffentlichungen zu den „Kriegskindern“ entstanden\, fehlt bishe
 r eine systematische Erforschung der besonderen Situation der Flüchtlings
 - und Vertriebenenkinder. Der Vortrag zeigt exemplarisch\, mit welchen Sit
 uationen und traumatisierenden Erlebnissen diese Kinder bei der Flucht\, d
 er Vertreibung und der nachfolgenden Aufnahme im Westen konfrontiert waren
 .\n\n\n
CATEGORIES:Vortrag
LOCATION:Haus des Deutschen Ostens\, Am Lilienberg 5\, München\, 81669 \, 
 Deutschland
GEO:48.130775;11.588826
X-APPLE-STRUCTURED-LOCATION;VALUE=URI;X-ADDRESS=Am Lilienberg 5\, München\
 , 81669 \, Deutschland;X-APPLE-RADIUS=100;X-TITLE=Haus des Deutschen Osten
 s:geo:48.130775,11.588826
END:VEVENT
BEGIN:VTIMEZONE
TZID:Europe/Berlin
X-LIC-LOCATION:Europe/Berlin
BEGIN:DAYLIGHT
DTSTART:20250330T030000
TZOFFSETFROM:+0100
TZOFFSETTO:+0200
TZNAME:CEST
END:DAYLIGHT
END:VTIMEZONE
END:VCALENDAR