BEGIN:VCALENDAR
VERSION:2.0
PRODID:-//wp-events-plugin.com//7.2.3.1//EN
TZID:Europe/Berlin
X-WR-TIMEZONE:Europe/Berlin
BEGIN:VEVENT
UID:12704@literaturseiten-muenchen.de
DTSTART;TZID=Europe/Berlin:20260427T190000
DTEND;TZID=Europe/Berlin:20260427T203000
DTSTAMP:20260309T150059Z
URL:https://www.literaturseiten-muenchen.de/veranstaltungen/klaus-brinkbae
 umer-der-amerikanische-albtraum-faschismus-made-in-usa/
SUMMARY:Klaus Brinkbäumer: "Der amerikanische Albtraum. Faschismus made in
  USA"
DESCRIPTION:Die schonungslose Analyse der politischen Situation in den USA 
 vom renommierten Amerika-Experten Klaus Brinkbäumer.\n\nDer amerikanische
  Traum ist zum Albtraum verkommen: Seit dem Amtsantritt von Donald Trump w
 erden Demokratische Regeln und Normen ausgesetzt oder abgeschafft. In der 
 Regierung sitzen Faschisten\, die Opfermythen und Überlegenheitsphantasie
 n verbreiten\, Universitäten und Medien angreifen. Von dem Gedanken\, das
 s Machtwechsel dazugehören\, haben sie sich verabschiedet\, den Gegner zu
 m Feind und sich selbst für überlegen erklärt. Der langjährige USA-Kor
 respondent Klaus Brinkbäumer ist durch das Land gereist\, hat mit MAGA-Le
 uten\, Journalistinnen und Wissenschaftlern gesprochen und muss feststelle
 n: Düsterer sah es nie aus.\n\nDiese Veranstaltung ist Teil der Reihe Ame
 rikahaus Book Talks.\n\nÜber den Autor: \nSeit dreißig Jahren ist Klaus
  Brinkbäumer (geb. 1967) den USA eng verbunden. Seit seinem Studium an de
 r University of California\, Santa Barbara\, war er regelmäßig dort und 
 verfolgte fasziniert und kritisch das politische und kulturelle Leben. 200
 7 wurde sein Lebenstraum wahr und er ging als Korrespondent des SPIEGEL 
 nach New York. So erlebte er die berühmten Krisenjahre und die Jahre Obam
 as hautnah mit. Von 2015 bis 2018 war Klaus Brinkbäumer Chefredakteur des
  SPIEGEL und Herausgeber von SPIEGEL ONLINE. Er gewann u. a. den Egon-E
 rwin-Kisch-Preis\, den Henri-Nannen-Preis\, den Deutschen Reporterpreis un
 d wurde 2016 Chefredakteur des Jahres. 2018 verlegte Klaus Brinkbäumer se
 inen Lebensschwerpunkt erneut in die USA\, von wo aus er nun als Journalis
 t für die ZEIT sowie als Filmemacher und Buchautor tätig ist. Zu seine
 n Büchern der letzten Jahre zählen Der Traum vom Leben – Eine afrikan
 ische Odyssee\, Die letzte Reise – Der Fall Christoph Columbus (mit Cl
 emens Höges) und Nachruf auf Amerika. 2019 wurde er in den Stiftungsrat 
 des Friedenspreises des Deutschen Buchhandels berufen.\n\nAnmeldung:\nDer 
 reguläre Eintritt beträgt 10 Euro pro Person.\nDer Eintritt für Schüle
 r*innen und Studierende bis 25 Jahre sowie Mitglieder des Amerikahaus Vere
 ins ist kostenlos.\nTickets können unter eveeno.com/482405011 erworben 
 werden.\n\nVeranstalter: Stiftung Bayerisches Amerikahaus\, Fischer Verla
 ge\n\n\n&nbsp\;\n\n\n\n\n\n\n
CATEGORIES:Buchpräsentation,Lesung
LOCATION:Amerikahaus München\, Karolinenplatz 3\, München\, Bayern\, 8033
 3\, Deutschland
GEO:48.144319;11.567752
X-APPLE-STRUCTURED-LOCATION;VALUE=URI;X-ADDRESS=Karolinenplatz 3\, München
 \, Bayern\, 80333\, Deutschland;X-APPLE-RADIUS=100;X-TITLE=Amerikahaus Mü
 nchen:geo:48.144319,11.567752
END:VEVENT
BEGIN:VTIMEZONE
TZID:Europe/Berlin
X-LIC-LOCATION:Europe/Berlin
BEGIN:DAYLIGHT
DTSTART:20260329T030000
TZOFFSETFROM:+0100
TZOFFSETTO:+0200
TZNAME:CEST
END:DAYLIGHT
END:VTIMEZONE
END:VCALENDAR