BEGIN:VCALENDAR
VERSION:2.0
PRODID:-//wp-events-plugin.com//7.2.3.1//EN
TZID:Europe/Berlin
X-WR-TIMEZONE:Europe/Berlin
BEGIN:VEVENT
UID:12446@literaturseiten-muenchen.de
DTSTART;TZID=Europe/Berlin:20260303T191500
DTEND;TZID=Europe/Berlin:20260303T211500
DTSTAMP:20260129T130812Z
URL:https://www.literaturseiten-muenchen.de/veranstaltungen/kreatives-schr
 eibatelier/
SUMMARY:Kreatives Schreibatelier
DESCRIPTION:Für alle\, die gern eigene Geschichten schreiben wollen\, egal
  ob fiktive oder selbst erlebte. Mithilfe von Kreativitätstechniken üben
  wir\, spannende Themen zu finden\, Inhalte zu strukturieren und beim Schr
 eiben nicht in Klischees zu verfallen. Wir schreiben Szenen und Dialoge un
 d überarbeiten entstandene Texte mit dem Ziel einer möglichst differenzi
 erten\, individuellen Darstellungsweise.\n\nKursnummer: W248908\n\nDozenti
 n: Simone Kayser\n\nGebühr: € 160\,-\n\nTermine: 03.03.2026\, 10.03.202
 6\, 17.03.2026\, 24.03.2026\, 14.04.2026\, 21.04.2026\, 28.04.2026\, 05.05
 .2026\, 12.05.2026\, 19.05.2026\n\nWeitere Informationen finden Sie unter:
  https://www.mvhs.de/
CATEGORIES:Schreibwerkstatt
LOCATION:MVHS Seidlvilla\, Nikolaiplatz 1 b\, München\, Deutschland
GEO:48.15867;11.587729999999965
X-APPLE-STRUCTURED-LOCATION;VALUE=URI;X-ADDRESS=Nikolaiplatz 1 b\, München
 \, Deutschland;X-APPLE-RADIUS=100;X-TITLE=MVHS Seidlvilla:geo:48.15867,11.
 587729999999965
END:VEVENT
BEGIN:VTIMEZONE
TZID:Europe/Berlin
X-LIC-LOCATION:Europe/Berlin
BEGIN:STANDARD
DTSTART:20251026T020000
TZOFFSETFROM:+0200
TZOFFSETTO:+0100
TZNAME:CET
END:STANDARD
END:VTIMEZONE
END:VCALENDAR