BEGIN:VCALENDAR
VERSION:2.0
PRODID:-//wp-events-plugin.com//7.2.3.1//EN
TZID:Europe/Berlin
X-WR-TIMEZONE:Europe/Berlin
BEGIN:VEVENT
UID:12686@literaturseiten-muenchen.de
DTSTART;TZID=Europe/Berlin:20260425T100000
DTEND;TZID=Europe/Berlin:20260426T170000
DTSTAMP:20260304T132528Z
URL:https://www.literaturseiten-muenchen.de/veranstaltungen/kreatives-schr
 eiben-mit-ki-ein-praxisworkshop/
SUMMARY:Kreatives Schreiben mit KI - Ein Praxisworkshop
DESCRIPTION:Künstliche Intelligenz kann kreatives Schreiben nicht ersetzen
 \, aber inspirieren und unterstützen. In diesem zweitägigen Workshop ent
 decken wir\, wie KI helfen kann\, Schreibblockaden zu lösen\, neue Ideen 
 zu generieren und Texte zu verfeinern. Mit verständlichen Erklärungen un
 d vielen praktischen Übungen lernen die Teilnehmenden den kreativen Einsa
 tz von KI kennen – von der ersten Idee bis zum Feinschliff eines Textes.
  Dabei wird mit dem KI-Tool ChatGPT experimentiert und gearbeitet.\n\nKurs
 nummer: W248045\n\nDozentin: Anne Stephanie Wildermann\n\nGebühr: € 99\
 ,-\n\nWeitere Informationen finden Sie unter: https://www.mvhs.de/kurse/k
 ultur-kunst-kreativitaet/kreatives-schreiben/texte-aller-art/kreatives-sch
 reiben-mit-ki/ein-praxisworkshop-460-C-W248045
CATEGORIES:Schreibwerkstatt
LOCATION:MVHS Neuhauser Trafo\, Nymphenburger Str. 171 a\, München\, Bayer
 n\, 80634\, Neuhausen\, Deutschland
GEO:48.15526999999999;11.531799999999975
X-APPLE-STRUCTURED-LOCATION;VALUE=URI;X-ADDRESS=Nymphenburger Str. 171 a\, 
 München\, Bayern\, 80634\, Neuhausen\, Deutschland;X-APPLE-RADIUS=100;X-T
 ITLE=MVHS Neuhauser Trafo:geo:48.15526999999999,11.531799999999975
END:VEVENT
BEGIN:VTIMEZONE
TZID:Europe/Berlin
X-LIC-LOCATION:Europe/Berlin
BEGIN:DAYLIGHT
DTSTART:20260329T030000
TZOFFSETFROM:+0100
TZOFFSETTO:+0200
TZNAME:CEST
END:DAYLIGHT
END:VTIMEZONE
END:VCALENDAR