BEGIN:VCALENDAR
VERSION:2.0
PRODID:-//wp-events-plugin.com//7.2.3.1//EN
TZID:Europe/Berlin
X-WR-TIMEZONE:Europe/Berlin
BEGIN:VEVENT
UID:11948@literaturseiten-muenchen.de
DTSTART;TZID=Europe/Berlin:20251128T193000
DTEND;TZID=Europe/Berlin:20251128T214500
DTSTAMP:20251016T102733Z
URL:https://www.literaturseiten-muenchen.de/veranstaltungen/krespel-oder-d
 as-geheimnis-der-geige-2/
SUMMARY:Krespel oder das Geheimnis der Geige
DESCRIPTION:Konzertante Lesung mit Michael Brandner und der Nantesbucher Mo
 orgeige\n\nRat Krespel baut Geigen – und zerstört sie wieder. Er liebt 
 Musik\, ist verschroben\, genial\, geheimnisvoll. In E.T.A. Hoffmanns Erz
 ählung wird er zur Figur voller Witz und Tiefe.\nMit Schauspieler Michael
  Brandner als Erzähler\, Henri Bonamy am Flügel\, Fabian Jüngling auf d
 er Nantesbucher Moorgeige und Katja Maderer (Sopran). Gespielt werden Werk
 e von Robert Schumann. Ein Abend zwischen Sprache und Klang\, gerahmt mit 
 fantastischen Zeichnungen und Skizzen von E.T.A. Hoffmann.\nIn Zusammenarb
 eit mit dem Konzertverein Isartal.
CATEGORIES:Gespräch / Diskussion,Lesung,Literatur &amp; Musik
LOCATION:Stiftung Kunst und Natur\, Karpfsee 12\, Bad Heilbrunn\, 83670\, D
 eutschland
GEO:47.77097;11.43187
X-APPLE-STRUCTURED-LOCATION;VALUE=URI;X-ADDRESS=Karpfsee 12\, Bad Heilbrunn
 \, 83670\, Deutschland;X-APPLE-RADIUS=100;X-TITLE=Stiftung Kunst und Natur
 :geo:47.77097,11.43187
END:VEVENT
BEGIN:VTIMEZONE
TZID:Europe/Berlin
X-LIC-LOCATION:Europe/Berlin
BEGIN:STANDARD
DTSTART:20251026T020000
TZOFFSETFROM:+0200
TZOFFSETTO:+0100
TZNAME:CET
END:STANDARD
END:VTIMEZONE
END:VCALENDAR