BEGIN:VCALENDAR
VERSION:2.0
PRODID:-//wp-events-plugin.com//7.2.3.1//EN
TZID:Europe/Berlin
X-WR-TIMEZONE:Europe/Berlin
BEGIN:VEVENT
UID:12677@literaturseiten-muenchen.de
DTSTART;TZID=Europe/Berlin:20260529T190000
DTEND;TZID=Europe/Berlin:20260529T203000
DTSTAMP:20260304T123344Z
URL:https://www.literaturseiten-muenchen.de/veranstaltungen/krimifestival-
 muenchen-ammerseer-kriminacht-mit-thea-fischer/
SUMMARY:Krimifestival München: Ammerseer Kriminacht mit Thea Fischer
DESCRIPTION:Thea Fischer liest aus ihrem neuen Krimi "Der Tod kennt Deinen 
 Namen". Buchpremiere!\nTickets: www.krimifestival-muenchen.de\n(Achtung: D
 as Bistro ist in Herrsching\, nicht in Breitbrunn! Google-Maps ist nicht k
 orrekt!)
CATEGORIES:Lesung
LOCATION:Bistro das.ammerseer\, Seestr. 7 \, Herrsching am Ammersee\, 82211
 \, Deutschland
GEO:48.033873;11.133976
X-APPLE-STRUCTURED-LOCATION;VALUE=URI;X-ADDRESS=Seestr. 7 \, Herrsching am 
 Ammersee\, 82211\, Deutschland;X-APPLE-RADIUS=100;X-TITLE=Bistro das.ammer
 seer:geo:48.033873,11.133976
END:VEVENT
BEGIN:VTIMEZONE
TZID:Europe/Berlin
X-LIC-LOCATION:Europe/Berlin
BEGIN:DAYLIGHT
DTSTART:20260329T030000
TZOFFSETFROM:+0100
TZOFFSETTO:+0200
TZNAME:CEST
END:DAYLIGHT
END:VTIMEZONE
END:VCALENDAR