BEGIN:VCALENDAR
VERSION:2.0
PRODID:-//wp-events-plugin.com//7.2.3.1//EN
TZID:Europe/Berlin
X-WR-TIMEZONE:Europe/Berlin
BEGIN:VEVENT
UID:11987@literaturseiten-muenchen.de
DTSTART;TZID=Europe/Berlin:20251028T180000
DTEND;TZID=Europe/Berlin:20251028T193000
DTSTAMP:20251017T093534Z
URL:https://www.literaturseiten-muenchen.de/veranstaltungen/krimifestival-
 muenchen-bayerisch-tuerkische-kriminacht-mit-su-turhan/
SUMMARY:Krimifestival München: Bayerisch-Türkische Kriminacht mit Su Turh
 an
DESCRIPTION:Su Turhan präsentiert seinen neuen Kommissar-Pascha-Krimi "Sch
 attenbauten". Ein neuer Fall für Zami Demirbilek von der Münchner Mordko
 mmission. Buchpremiere! Info/Tickets: www.krimifestival-muenchen.de
CATEGORIES:Buchpräsentation,Festival,Lesung
LOCATION:Polizeipräsidium München\, Ettstraße\, München\, Deutschland
GEO:48.139151;11.570907
X-APPLE-STRUCTURED-LOCATION;VALUE=URI;X-ADDRESS=Ettstraße\, München\, Deu
 tschland;X-APPLE-RADIUS=100;X-TITLE=Polizeipräsidium München:geo:48.1391
 51,11.570907
END:VEVENT
BEGIN:VTIMEZONE
TZID:Europe/Berlin
X-LIC-LOCATION:Europe/Berlin
BEGIN:STANDARD
DTSTART:20251026T020000
TZOFFSETFROM:+0200
TZOFFSETTO:+0100
TZNAME:CET
END:STANDARD
END:VTIMEZONE
END:VCALENDAR