BEGIN:VCALENDAR
VERSION:2.0
PRODID:-//wp-events-plugin.com//7.2.3.1//EN
TZID:Europe/Berlin
X-WR-TIMEZONE:Europe/Berlin
BEGIN:VEVENT
UID:12674@literaturseiten-muenchen.de
DTSTART;TZID=Europe/Berlin:20260415T180000
DTEND;TZID=Europe/Berlin:20260415T193000
DTSTAMP:20260304T122301Z
URL:https://www.literaturseiten-muenchen.de/veranstaltungen/krimifestival-
 muenchen-buchpremiere-mit-mordermittler-helmut-eigner/
SUMMARY:Krimifestival München: Buchpremiere mit Mordermittler Helmut Eigne
 r
DESCRIPTION:Der Münchner Mordermittler Helmut Eigner präsentiert sein Buc
 h "Cold Cases". Buchpremiere!\nTickets: www.krimifestival-muenchen.de
CATEGORIES:Lesung
LOCATION:Polizeipräsidium München\, Medienzentrum\, Augustinerstr. 2\, M
 ünchen\, Deutschland
GEO:48.13854;11.57212
X-APPLE-STRUCTURED-LOCATION;VALUE=URI;X-ADDRESS=Augustinerstr. 2\, München
 \, Deutschland;X-APPLE-RADIUS=100;X-TITLE=Polizeipräsidium München\, Med
 ienzentrum:geo:48.13854,11.57212
END:VEVENT
BEGIN:VTIMEZONE
TZID:Europe/Berlin
X-LIC-LOCATION:Europe/Berlin
BEGIN:DAYLIGHT
DTSTART:20260329T030000
TZOFFSETFROM:+0100
TZOFFSETTO:+0200
TZNAME:CEST
END:DAYLIGHT
END:VTIMEZONE
END:VCALENDAR