BEGIN:VCALENDAR
VERSION:2.0
PRODID:-//wp-events-plugin.com//7.2.3.1//EN
TZID:Europe/Berlin
X-WR-TIMEZONE:Europe/Berlin
BEGIN:VEVENT
UID:12665@literaturseiten-muenchen.de
DTSTART;TZID=Europe/Berlin:20260617T193000
DTEND;TZID=Europe/Berlin:20260617T210000
DTSTAMP:20260304T121029Z
URL:https://www.literaturseiten-muenchen.de/veranstaltungen/krimifestival-
 muenchen-die-grosse-tabor-sueden-kriminacht-mit-friedrich-ani/
SUMMARY:Krimifestival München: Die große Tabor-Süden-Kriminacht mit Frie
 drich Ani
DESCRIPTION:Kult-Krimi: Der mehrfach preisgekrönte Münchner Autor Friedri
 ch Ani liest aus seinen Tabor-Süden-Krimis.\nTickets: www.krimfiestival-m
 uenchen.de
CATEGORIES:Lesung
LOCATION:Theater Drehleier\, Rosenheimerstr. 123\, München\, Deutschland
GEO:48.126074;11.598578
X-APPLE-STRUCTURED-LOCATION;VALUE=URI;X-ADDRESS=Rosenheimerstr. 123\, Münc
 hen\, Deutschland;X-APPLE-RADIUS=100;X-TITLE=Theater Drehleier:geo:48.1260
 74,11.598578
END:VEVENT
BEGIN:VTIMEZONE
TZID:Europe/Berlin
X-LIC-LOCATION:Europe/Berlin
BEGIN:DAYLIGHT
DTSTART:20260329T030000
TZOFFSETFROM:+0100
TZOFFSETTO:+0200
TZNAME:CEST
END:DAYLIGHT
END:VTIMEZONE
END:VCALENDAR