BEGIN:VCALENDAR
VERSION:2.0
PRODID:-//wp-events-plugin.com//7.2.3.1//EN
TZID:Europe/Berlin
X-WR-TIMEZONE:Europe/Berlin
BEGIN:VEVENT
UID:11988@literaturseiten-muenchen.de
DTSTART;TZID=Europe/Berlin:20251029T170000
DTEND;TZID=Europe/Berlin:20251029T180000
DTSTAMP:20251017T100343Z
URL:https://www.literaturseiten-muenchen.de/veranstaltungen/krimifestival-
 muenchen-knastlesung-christina-pertl/
SUMMARY:Krimifestival München: Knastlesung mit Christine Rechl
DESCRIPTION:Christine Rechl liest in der Großraumzelle der Haftanstalt aus
  ihrem Krimi "Die wunderbaren Schafe der Amelie und der Tote im Englischen
  Garten". Infos/Tickets: www.krimifestival-muenchen.de
CATEGORIES:Buchpräsentation,Festival,Lesung
LOCATION:Polizeipräsidium München\, Ettstraße\, München\, Deutschland
GEO:48.139151;11.570907
X-APPLE-STRUCTURED-LOCATION;VALUE=URI;X-ADDRESS=Ettstraße\, München\, Deu
 tschland;X-APPLE-RADIUS=100;X-TITLE=Polizeipräsidium München:geo:48.1391
 51,11.570907
END:VEVENT
BEGIN:VTIMEZONE
TZID:Europe/Berlin
X-LIC-LOCATION:Europe/Berlin
BEGIN:STANDARD
DTSTART:20251026T020000
TZOFFSETFROM:+0200
TZOFFSETTO:+0100
TZNAME:CET
END:STANDARD
END:VTIMEZONE
END:VCALENDAR