BEGIN:VCALENDAR
VERSION:2.0
PRODID:-//wp-events-plugin.com//7.2.3.1//EN
TZID:Europe/Berlin
X-WR-TIMEZONE:Europe/Berlin
BEGIN:VEVENT
UID:12676@literaturseiten-muenchen.de
DTSTART;TZID=Europe/Berlin:20260518T193000
DTEND;TZID=Europe/Berlin:20260518T213000
DTSTAMP:20260304T122914Z
URL:https://www.literaturseiten-muenchen.de/veranstaltungen/krimifestival-
 muenchen-kriminacht-in-der-anatomischen-anstalt/
SUMMARY:Krimifestival München: Kriminacht in der Anatomischen Anstalt
DESCRIPTION:Prof. Jens Waschke\, Leiter der Anatomischen Anstalt und Autor\
 , liest aus seinem Krimi "Einbein" mit Schauplatz Anatomie.\nMit Besichtig
 ung des Präpariersaals\, der Anatomischen Sammlung und der Prosektur. Nic
 hts für schwache Nerven!\nTickets: www.krimifestival-muenchen.de
CATEGORIES:Lesung
LOCATION:Anatomische Anstalt\, Pettenkoferstr. 11\, München\, Deutschland
GEO:48.13384;11.559872
X-APPLE-STRUCTURED-LOCATION;VALUE=URI;X-ADDRESS=Pettenkoferstr. 11\, Münch
 en\, Deutschland;X-APPLE-RADIUS=100;X-TITLE=Anatomische Anstalt:geo:48.133
 84,11.559872
END:VEVENT
BEGIN:VTIMEZONE
TZID:Europe/Berlin
X-LIC-LOCATION:Europe/Berlin
BEGIN:DAYLIGHT
DTSTART:20260329T030000
TZOFFSETFROM:+0100
TZOFFSETTO:+0200
TZNAME:CEST
END:DAYLIGHT
END:VTIMEZONE
END:VCALENDAR