BEGIN:VCALENDAR
VERSION:2.0
PRODID:-//wp-events-plugin.com//7.2.3.1//EN
TZID:Europe/Berlin
X-WR-TIMEZONE:Europe/Berlin
BEGIN:VEVENT
UID:12673@literaturseiten-muenchen.de
DTSTART;TZID=Europe/Berlin:20260413T200000
DTEND;TZID=Europe/Berlin:20260413T214500
DTSTAMP:20260304T122056Z
URL:https://www.literaturseiten-muenchen.de/veranstaltungen/krimifestival-
 muenchen-true-crime-dunkle-geheimnisse-mit-ludwig-waldinger-und-marion-geh
 lert/
SUMMARY:Krimifestival München: True Crime - "Dunkle Geheimnisse" mit Ludwi
 g Waldinger und Marion Gehlert
DESCRIPTION:Premiere des neuen True-Crime-Formats von True-Crime-Experte Lu
 dwig Waldinger und Marion Gehlert (Chefred. TV München).\nInfos: www.krim
 ifestival-muenchen.de
CATEGORIES:Lesung
LOCATION:Deutsches Theater\, Schwanthalerstr. 13\, München\, 80336\, Deuts
 chland
GEO:48.137213;11.56265
X-APPLE-STRUCTURED-LOCATION;VALUE=URI;X-ADDRESS=Schwanthalerstr. 13\, Münc
 hen\, 80336\, Deutschland;X-APPLE-RADIUS=100;X-TITLE=Deutsches Theater:geo
 :48.137213,11.56265
END:VEVENT
BEGIN:VTIMEZONE
TZID:Europe/Berlin
X-LIC-LOCATION:Europe/Berlin
BEGIN:DAYLIGHT
DTSTART:20260329T030000
TZOFFSETFROM:+0100
TZOFFSETTO:+0200
TZNAME:CEST
END:DAYLIGHT
END:VTIMEZONE
END:VCALENDAR