BEGIN:VCALENDAR
VERSION:2.0
PRODID:-//wp-events-plugin.com//7.2.3.1//EN
TZID:Europe/Berlin
X-WR-TIMEZONE:Europe/Berlin
BEGIN:VEVENT
UID:11994@literaturseiten-muenchen.de
DTSTART;TZID=Europe/Berlin:20251113T190000
DTEND;TZID=Europe/Berlin:20251113T213000
DTSTAMP:20251017T100505Z
URL:https://www.literaturseiten-muenchen.de/veranstaltungen/krimifestival-
 muenchen-volker-kutscher/
SUMMARY:Krimifestival München: Volker Kutscher
DESCRIPTION:Bestsellerautor Volker Kutscher präsentiert sein aktuelles Wer
 k "West-End") aus der Gedeon-Rath-Reihe (Babylon-Berlin u.a.) gemeinsam mi
 t Illustratorin Kat Menschik. Infos/Tickets: www.krimifestival-muenchen.de
CATEGORIES:Buchpräsentation,Festival,Lesung
LOCATION:NS-Dokumentationszentrum München\, Max-Mannheimer-Platz 1\, Münc
 hen\, Bayern\, 80333\, Deutschland
GEO:48.1453664;11.567718499999955
X-APPLE-STRUCTURED-LOCATION;VALUE=URI;X-ADDRESS=Max-Mannheimer-Platz 1\, M
 ünchen\, Bayern\, 80333\, Deutschland;X-APPLE-RADIUS=100;X-TITLE=NS-Dokum
 entationszentrum München:geo:48.1453664,11.567718499999955
END:VEVENT
BEGIN:VTIMEZONE
TZID:Europe/Berlin
X-LIC-LOCATION:Europe/Berlin
BEGIN:STANDARD
DTSTART:20251026T020000
TZOFFSETFROM:+0200
TZOFFSETTO:+0100
TZNAME:CET
END:STANDARD
END:VTIMEZONE
END:VCALENDAR