BEGIN:VCALENDAR
VERSION:2.0
PRODID:-//wp-events-plugin.com//7.2.3.1//EN
TZID:Europe/Berlin
X-WR-TIMEZONE:Europe/Berlin
BEGIN:VEVENT
UID:12146@literaturseiten-muenchen.de
DTSTART;TZID=Europe/Berlin:20251214T153000
DTEND;TZID=Europe/Berlin:20251214T153000
DTSTAMP:20251116T212251Z
URL:https://www.literaturseiten-muenchen.de/veranstaltungen/lars-eidinger-
 liebesgedichte-gedichte-von-thomas-brasch/
SUMMARY:Lars Eidinger:  Liebesgedichte – Gedichte von Thomas Brasch
DESCRIPTION:Ob als Hamlet\, Richard III. oder in Salzburg als „Jedermann
 “: Lars Eidinger ist einer der erfolgreichsten Theater- und Film-Schausp
 ieler im deutschsprachigen Raum. In zahlreichen TV-Produktionen verkörper
 te Eidinger Figuren\, die in Maßlosigkeit wie Gleichgültigkeit an Grenze
 n gehen und Reaktionen provozieren. Im richtigen Leben pflegt er hingegen 
 vielmehr einen neoromantischen Blick auf die Welt – unter anderem als Fo
 tograf\, Musiker\, Musikproduzent und DJ.\n\nIn München widmet sich Lars 
 Eidinger lesend der Liebe: mit geistreichen\, humoristischen\, ironischen 
 Gedichten von Thomas Brasch\, kongenial begleitet von George Kranz am Schl
 agzeug. Dabei bringt Eidinger die Verzweiflung an der Gegenwart ebenso mit
 reißend auf die Bühne wie die Liebe\, die sie erträglich macht. Eine Ve
 rneigung vor der Poesie des 2001 verstorbenen Schriftstellers.\n\nTickets:
  MünchenTicket\, 49\,70-90\,90€\n\n&nbsp\;
CATEGORIES:Lesung,Literatur &amp; Musik
LOCATION:Prinzregententheater\, Prinzregentenplatz 12\, München\, Deutschl
 and
GEO:48.139013;11.605577
X-APPLE-STRUCTURED-LOCATION;VALUE=URI;X-ADDRESS=Prinzregentenplatz 12\, Mü
 nchen\, Deutschland;X-APPLE-RADIUS=100;X-TITLE=Prinzregententheater:geo:48
 .139013,11.605577
END:VEVENT
BEGIN:VTIMEZONE
TZID:Europe/Berlin
X-LIC-LOCATION:Europe/Berlin
BEGIN:STANDARD
DTSTART:20251026T020000
TZOFFSETFROM:+0200
TZOFFSETTO:+0100
TZNAME:CET
END:STANDARD
END:VTIMEZONE
END:VCALENDAR