BEGIN:VCALENDAR
VERSION:2.0
PRODID:-//wp-events-plugin.com//7.2.3.1//EN
TZID:Europe/Berlin
X-WR-TIMEZONE:Europe/Berlin
BEGIN:VEVENT
UID:11735@literaturseiten-muenchen.de
DTSTART;TZID=Europe/Berlin:20251028T190000
DTEND;TZID=Europe/Berlin:20251028T190000
DTSTAMP:20250909T090312Z
URL:https://www.literaturseiten-muenchen.de/veranstaltungen/lasst-uns-was-
 bewegen-lesung-baerbel-hoehn/
SUMMARY:Lasst uns was bewegen: Lesung Bärbel Höhn
DESCRIPTION:Eintritt frei\nVeranstaltungsort: Projektor\nSo tust du persön
 lich etwas für den Umweltschutz: Bärbel Höhn\, ehemalige Ministerin f
 ür Umwelt und Landwirtschaft des Landes Nordrhein-Westfalen\, liest aus i
 hrem Buch "Lasst uns was bewegen" vor und gibt Tipps\, was wir für die Zu
 kunft unserer Enkel tun können.\n\nAnschließend beantwortet sie Fragen a
 us dem Publikum.\n\nWer selbst Texte zum Thema Nachhaltigkeit schreibt\, k
 ann diese danach spontan dem Publikum präsentieren.\n\nInformationen zur 
 Anmeldung\n\n\nOhne Anmeldung\n\n\n\n\nKooperationspartner\n\n\nOmas for f
 uture\n\n\n
CATEGORIES:Lesung
LOCATION:Münchner Stadtbibliothek im HP8\, Hans-Preißinger-Straße 8\, M
 ünchen\, Deutschland
GEO:48.111734;11.553315
X-APPLE-STRUCTURED-LOCATION;VALUE=URI;X-ADDRESS=Hans-Preißinger-Straße 8\
 , München\, Deutschland;X-APPLE-RADIUS=100;X-TITLE=Münchner Stadtbibliot
 hek im HP8:geo:48.111734,11.553315
END:VEVENT
BEGIN:VTIMEZONE
TZID:Europe/Berlin
X-LIC-LOCATION:Europe/Berlin
BEGIN:STANDARD
DTSTART:20251026T020000
TZOFFSETFROM:+0200
TZOFFSETTO:+0100
TZNAME:CET
END:STANDARD
END:VTIMEZONE
END:VCALENDAR