BEGIN:VCALENDAR
VERSION:2.0
PRODID:-//wp-events-plugin.com//7.2.3.1//EN
TZID:Europe/Berlin
X-WR-TIMEZONE:Europe/Berlin
BEGIN:VEVENT
UID:11879@literaturseiten-muenchen.de
DTSTART;TZID=Europe/Berlin:20251013T190000
DTEND;TZID=Europe/Berlin:20251013T203000
DTSTAMP:20251009T141650Z
URL:https://www.literaturseiten-muenchen.de/veranstaltungen/le-strade-oscu
 re-buchpraesentation-mit-andrea-fazioli/
SUMMARY:Le strade oscure – Buchpräsentation mit Andrea Fazioli
DESCRIPTION:Das Generalkonsulat der Schweiz\, das Generalkonsulat Italiens 
 und das Italienische Kulturinstitut München präsentieren im Rahmen der X
 XV. Woche der italienischen Sprache in der Welt unter dem Motto „Italofo
 nia: Sprache jenseits der Grenzen“ den Schriftsteller Andrea Fazioli\, d
 er aus dem italienischsprachigen Kanton Tessin in der Schweiz stammt.\n\nF
 azioli verkörpert die Vielstimmigkeit der italienischen Sprache über die
  Grenzen Italiens hinaus. Indem er eine Brücke zwischen der Schweiz\, Ita
 lien und den Leserinnen und Lesern auf internationaler Ebene schlägt\, is
 t der Autor ein wahrer Botschafter der italienischen Sprache in der Welt. 
 Seine Bücher wurden in zahlreiche Sprachen übersetzt.\n\nIn seinem Werk 
 „Le strade oscure“ schildert Fazioli die Welt der Grenzgänger\, die j
 eden Tag in aller Frühe die Grenze zwischen Italien und der Schweiz über
 queren\, um zu ihrer Arbeitsstelle zu gelangen.\n\nErnesto Magni ist Teil 
 dieser Realität. Sein Leben scheint zunächst gewöhnlich zu verlaufen\, 
 bis es – zwischen einer abrupten Entlassung und einer nie verwundenen Tr
 ennung – eine schlimme Wendung nimmt. Elia Contini\, ein Privatdetektiv\
 , der in den Fall hineingezogen wird\, findet sich plötzlich in einem Sch
 attenreich wieder\, das sich von der Welt der Grenzgänger bis in jene der
  Unternehmer erstreckt – geprägt von Korruption\, Gewalt und Chaos.\n\n
 In italienischer Sprache\n\nAndrea Fazioli hat beim Verlag Guanda folgende
  Werke veröffentlicht: Le strade oscure (2022\, Premio Ceresio in giallo\
 , Finalist beim Premio Scerbanenco\; Finalist beim Premio svizzero del Gia
 llo)\, Il commissario e la badante (2020)\, Gli Svizzeri muoiono felici (2
 018)\, L’arte del fallimento (2016\, Premio La Fenice Europa\, Premio An
 fiteatro d’Argento\, Finalist Premio Scerbanenco)\, Il giudice e la rond
 ine (2014)\, Uno splendido inganno (2013)\, La sparizione (2010\, Preis La
  Fenice Europa)\, Come rapinare una banca svizzera (2009) und L’uomo sen
 za casa (2008\, Premio Stresa\, Premio Selezione Comisso). Für den Verlag
  Casagrande veröffentlichte er den Roman Le vacanze di Studer. Un polizie
 sco ritrovato (2021)\, der auf unveröffentlichten Fragmenten von Friedric
 h Glauser basiert\, die von Gabriella de’Grandi übersetzt wurden\, sowi
 e die Erzählsammlung Succede sempre qualcosa (2018). Für Armando Dadò E
 ditore Chi muore si rivede (2005). Für den Verlag San Paolo La beata anal
 fabeta (2016). Für Gabriele Capelli Editore veröffentlichte er zusammen 
 mit Yari Bernasconi A Zurigo\, sulla luna. Dodici mesi in Paradeplatz (202
 1). Im Taschenbuchformat werden seine Romane vom Verlag TEA angeboten. Im 
 Jahr 2015 brachte er das Theaterstück „Teoria e pratica della rapina in
  banca“ heraus. 2014 verfasste er das Drehbuch zur Webserie „Notte noi
 r“\, die sowohl beim Roma Web Fest als auch beim Efebo d’Oro di Palerm
 o ausgezeichnet wurde. 2023 schrieb er zudem das Drehbuch für den Film 
 „La tentazione di esistere“\, der beim Festival di Benevento prämiert
  wurde. Im Jahr 2017 verlieh ihm der Präsident der Italienischen Republik
  für sein literarisches Werk den Orden „Ufficiale dell’Ordine della S
 tella d’Italia”. Er betreibt den Blog andreafazioli.ch/blog.\nAus http
 s://www.andreafazioli.ch/\n\nEintritt frei\, Anmeldung erforderlich über 
 Eventbrite:\nhttps://www.eventbrite.de/e/le-strade-oscure-buchprasentation
 -mit-andrea-fazioli-tickets-1734017165019?aff=oddtdtcreator\n\nOrganisiert
  von: Consolato Generale di Svizzera\, Consolato Generale d’Italia\, Ist
 ituto Italiano di Cultura di Monaco di Baviera
CATEGORIES:Buchpräsentation
LOCATION:Italienisches Kulturinstitut\, Hermann-Schmid-Str.8\, München\, D
 eutschland\, 80336 \, Bayern\, Deutschland
GEO:48.128401;11.553204
X-APPLE-STRUCTURED-LOCATION;VALUE=URI;X-ADDRESS=Hermann-Schmid-Str.8\, Mün
 chen\, Deutschland\, 80336 \, Bayern\, Deutschland;X-APPLE-RADIUS=100;X-TI
 TLE=Italienisches Kulturinstitut:geo:48.128401,11.553204
END:VEVENT
BEGIN:VTIMEZONE
TZID:Europe/Berlin
X-LIC-LOCATION:Europe/Berlin
BEGIN:DAYLIGHT
DTSTART:20250330T030000
TZOFFSETFROM:+0100
TZOFFSETTO:+0200
TZNAME:CEST
END:DAYLIGHT
END:VTIMEZONE
END:VCALENDAR