BEGIN:VCALENDAR
VERSION:2.0
PRODID:-//wp-events-plugin.com//7.2.3.1//EN
TZID:Europe/Berlin
X-WR-TIMEZONE:Europe/Berlin
BEGIN:VEVENT
UID:11818@literaturseiten-muenchen.de
DTSTART;TZID=Europe/Berlin:20251008T200000
DTEND;TZID=Europe/Berlin:20251008T213000
DTSTAMP:20250916T084012Z
URL:https://www.literaturseiten-muenchen.de/veranstaltungen/lenn-kudrjawiz
 ki-familienbande/
SUMMARY:Lenn Kudrjawizki – Familienbande
DESCRIPTION:Lenn Kudrjawizki – Familienbande\n\nMusikalisches Lesekonzert
  mit Violine und Gitarre\n\nAls Kommissar im Kroatien-Krimi begeistert Len
 n Kudrjawizki ein Millionen­publikum\, er spielte mit im oscarprämierten
  Film „Die Fälscher“\, mit Kevin Costner machte er während der Drehp
 ausen in seinem Wohnwagen Musik. Der Schauspieler\, Regisseur\, Musiker\, 
 Sänger und Autor stammt aus einer russisch-ukrainischen Einwandererfamili
 e\, die in den späten 1970er-Jahren in die DDR immigrierte. Seine italien
 isch-spanischen Wurzeln verbinden seinen Werdegang zu einer symbolhaften e
 uropäischen Genese. Heute lebt Lenn Kudrjawizki mit Frau und Familie in B
 erlin. In seinem Buch „Familienbande – Vom Leben\, Lieben und Loslasse
 n“ (S. Fischer Verlage) erzählt er über seinen spannenden Lebensweg mi
 t viel Menschlichkeit und Verve.\n\nLenn liest\, singt und spielt Violine.
  Begleitet wird er von Ben Kreisel an der akustischen Gitarre.\n\nTickets:
  MünchenTicket 33\,20/29\,90€
CATEGORIES:Lesung,Literatur &amp; Musik
LOCATION:Pasinger Fabrik - Wagenhalle\, August-Exter-Str. 1\, München\, 81
 245\, Deutschland
GEO:48.151105;11.461226
X-APPLE-STRUCTURED-LOCATION;VALUE=URI;X-ADDRESS=August-Exter-Str. 1\, Münc
 hen\, 81245\, Deutschland;X-APPLE-RADIUS=100;X-TITLE=Pasinger Fabrik - Wag
 enhalle:geo:48.151105,11.461226
END:VEVENT
BEGIN:VTIMEZONE
TZID:Europe/Berlin
X-LIC-LOCATION:Europe/Berlin
BEGIN:DAYLIGHT
DTSTART:20250330T030000
TZOFFSETFROM:+0100
TZOFFSETTO:+0200
TZNAME:CEST
END:DAYLIGHT
END:VTIMEZONE
END:VCALENDAR