BEGIN:VCALENDAR
VERSION:2.0
PRODID:-//wp-events-plugin.com//7.2.3.1//EN
TZID:Europe/Berlin
X-WR-TIMEZONE:Europe/Berlin
BEGIN:VEVENT
UID:11647@literaturseiten-muenchen.de
DTSTART;TZID=Europe/Berlin:20251008T180000
DTEND;TZID=Europe/Berlin:20251008T193000
DTSTAMP:20250828T121831Z
URL:https://www.literaturseiten-muenchen.de/veranstaltungen/lesekreis-im-h
 p8/
SUMMARY:Lesekreis im HP8
DESCRIPTION:Im Lesekreis werden literarische Neuerscheinungen der letzten J
 ahre und auch ausgewählte klassische Literatur des 19. und 20. Jahrhunder
 ts diskutiert. Aus einer Liste mit Vorschlägen des Dozenten werden die Ti
 tel ausgewählt\, die dann gelesen und beim monatlichen Treffen gemeinsam 
 besprochen werden. Wer Freude am Lesen hat\, an der Literatur der Gegenwar
 t interessiert ist und literarische Gespräche mit vertieften Perspektiven
  und Einsichten schätzt\, ist hier richtig. Bitte lesen Sie für den erst
 en Termin den Roman "Eigentum" von Wolf Haas.\n\nKursnummer: V244535\n\nDo
 zent: Prof. Dr. Thomas Borgstedt\n\nTermine: 08.10.2025\, 19.11.2025\, 17.
 12.2025\, 21.01.2026\, 25.02.2026\n\nGebühr: € 52\,-\n\nWeitere Informa
 tionen erhalten Sie unter: https://www.mvhs.de/?
CATEGORIES:Lesekreis
LOCATION:MVHS im HP8\, Hans-Preißinger-Str. 8 \, München\, Deutschland\, 
 81379\, Sendling\, Deutschland
GEO:48.110833;11.553216
X-APPLE-STRUCTURED-LOCATION;VALUE=URI;X-ADDRESS=Hans-Preißinger-Str. 8 \, 
 München\, Deutschland\, 81379\, Sendling\, Deutschland;X-APPLE-RADIUS=100
 ;X-TITLE=MVHS im HP8:geo:48.110833,11.553216
END:VEVENT
BEGIN:VTIMEZONE
TZID:Europe/Berlin
X-LIC-LOCATION:Europe/Berlin
BEGIN:DAYLIGHT
DTSTART:20250330T030000
TZOFFSETFROM:+0100
TZOFFSETTO:+0200
TZNAME:CEST
END:DAYLIGHT
END:VTIMEZONE
END:VCALENDAR