BEGIN:VCALENDAR
VERSION:2.0
PRODID:-//wp-events-plugin.com//7.2.3.1//EN
TZID:Europe/Berlin
X-WR-TIMEZONE:Europe/Berlin
BEGIN:VEVENT
UID:11651@literaturseiten-muenchen.de
DTSTART;TZID=Europe/Berlin:20251028T190000
DTEND;TZID=Europe/Berlin:20251028T203000
DTSTAMP:20250828T124407Z
URL:https://www.literaturseiten-muenchen.de/veranstaltungen/lesekreis-im-w
 estend/
SUMMARY:Lesekreis im Westend
DESCRIPTION:Wer liest\, begegnet sich selbst. Wer gemeinsam liest\, begegne
 t sich und anderen. Das erweitert die Perspektive\, in jeglicher Hinsicht.
  Literarische Heldinnen und Helden bewegen sich selten in ruhigen Gewässe
 rn. Es sind die Außenseiter*innen\, die Liebenden\, die Schiffbrüchigen\
 , die uns selbst und unserer Suche nach dem Glück einen Spiegel vorhalten
 . Und manchmal wird ja auch alles gut - Vorkenntnisse sind nicht erforderl
 ich\, wir kommen zwanglos ins Gespräch.\nBitte lesen Sie zum ersten Termi
 n "Das Liebespaar des Jahrhunderts" von Julia Schoch. Alle weiteren Titel 
 werden gemeinsam ausgewählt.\n\nKursnummer: V244670\n\nDozentin: Brigitte
  Kohn\n\nTermine: 28.10.2025\, 25.11.2025\, 27.01.2026\, 24.02.2026\n\nGeb
 ühr: € 41\,-\n\nWeitere Informationen erhalten Sie unter: https://www.
 mvhs.de/?\n\n&nbsp\;
CATEGORIES:Lesekreis
LOCATION:Münchner Stadtbibliothek Westend\, Schießstättstr. 20 c\, Münc
 hen\, Bayern\, 80339\, Deutschland
GEO:48.1365294;11.545402200000012
X-APPLE-STRUCTURED-LOCATION;VALUE=URI;X-ADDRESS=Schießstättstr. 20 c\, M
 ünchen\, Bayern\, 80339\, Deutschland;X-APPLE-RADIUS=100;X-TITLE=Münchne
 r Stadtbibliothek Westend:geo:48.1365294,11.545402200000012
END:VEVENT
BEGIN:VTIMEZONE
TZID:Europe/Berlin
X-LIC-LOCATION:Europe/Berlin
BEGIN:STANDARD
DTSTART:20251026T020000
TZOFFSETFROM:+0200
TZOFFSETTO:+0100
TZNAME:CET
END:STANDARD
END:VTIMEZONE
END:VCALENDAR