BEGIN:VCALENDAR
VERSION:2.0
PRODID:-//wp-events-plugin.com//7.2.3.1//EN
TZID:Europe/Berlin
X-WR-TIMEZONE:Europe/Berlin
BEGIN:VEVENT
UID:11951@literaturseiten-muenchen.de
DTSTART;TZID=Europe/Berlin:20251103T190000
DTEND;TZID=Europe/Berlin:20251103T220000
DTSTAMP:20251017T055522Z
URL:https://www.literaturseiten-muenchen.de/veranstaltungen/lesung-mir-zen
 en-do-und-dennoch-sind-wir-hier/
SUMMARY:Lesung „Mir zenen do!“ („Und dennoch sind wir hier“)
DESCRIPTION:„Schejres Haplejte“ ist Jiddisch und bedeutet „Rest der G
 eretteten“. Mit diesem Namen bezeichneten sich die jüdischen Überleben
 den der Schoah\, die unmittelbar nach der Befreiung ihre Erlebnisse zu ver
 schriftlichen begannen. Von 1945 bis Anfang der 1950er Jahre erschienen in
  Deutschland autobiografische Erzählungen\, Romane und Gedichtsammlungen\
 , sowie eine Vielzahl jüdischer Presseerzeugnisse auf Jiddisch oder Hebr
 äisch. Mit dem Ausruf „Mir zenen do!“\, zu Deutsch: „und dennoch wi
 r sind hier!“\, machte der 1946 gegründete „Schriftstellerverband der
  befreiten Juden“ immer wieder auf die Gegenwarts-bedingungen der jiddis
 chen Schriftsteller*innen aufmerksam.\n\nAnlässlich des Projekts „Wohin
  jetzt?“ holt die Lesung ausgewählte literarische Zeugnisse in das Ged
 ächtnis der Gegenwart. Es lesen Rachel Salamander und Beno Salamander in 
 jiddischer und deutscher Sprache.\n\nEintritt frei / Anmeldung über koste
 nlose Tickets der Münchner Kammerspiele
CATEGORIES:Lesung
LOCATION:Monacensia im Hildebrandhaus\, Maria-Theresia-Str. 23\, München\,
  Deutschland
GEO:48.1436397;11.598950100000024
X-APPLE-STRUCTURED-LOCATION;VALUE=URI;X-ADDRESS=Maria-Theresia-Str. 23\, M
 ünchen\, Deutschland;X-APPLE-RADIUS=100;X-TITLE=Monacensia im Hildebrandh
 aus:geo:48.1436397,11.598950100000024
END:VEVENT
BEGIN:VTIMEZONE
TZID:Europe/Berlin
X-LIC-LOCATION:Europe/Berlin
BEGIN:STANDARD
DTSTART:20251026T020000
TZOFFSETFROM:+0200
TZOFFSETTO:+0100
TZNAME:CET
END:STANDARD
END:VTIMEZONE
END:VCALENDAR