BEGIN:VCALENDAR
VERSION:2.0
PRODID:-//wp-events-plugin.com//7.2.3.1//EN
TZID:Europe/Berlin
X-WR-TIMEZONE:Europe/Berlin
BEGIN:VEVENT
UID:11905@literaturseiten-muenchen.de
DTSTART;TZID=Europe/Berlin:20251112T193000
DTEND;TZID=Europe/Berlin:20251112T193000
DTSTAMP:20251009T142650Z
URL:https://www.literaturseiten-muenchen.de/veranstaltungen/lesung-mit-ral
 f-westhoff-aus-seinem-buch-niemals-nichts/
SUMMARY:Lesung mit Ralf Westhoff aus seinem Buch „Niemals nichts“.
DESCRIPTION:Ein zeitloser Roman von großer Aktualität in der archaisch-b
 äuerlichen Welt Anfang des 19. Jahrhunderts.\nEintritt 14 Euro\nAnmeldung
  erbeten unter Tel 089-18970460 oder info@buchhandlung-nordbad.de.
CATEGORIES:Lesung
LOCATION:Buchhandlung am Nordbad\, Elisabethstr. 55\, München\, Bayern\, 8
 0796\, Deutschland
GEO:48.159568;11.563677
X-APPLE-STRUCTURED-LOCATION;VALUE=URI;X-ADDRESS=Elisabethstr. 55\, München
 \, Bayern\, 80796\, Deutschland;X-APPLE-RADIUS=100;X-TITLE=Buchhandlung am
  Nordbad:geo:48.159568,11.563677
END:VEVENT
BEGIN:VTIMEZONE
TZID:Europe/Berlin
X-LIC-LOCATION:Europe/Berlin
BEGIN:STANDARD
DTSTART:20251026T020000
TZOFFSETFROM:+0200
TZOFFSETTO:+0100
TZNAME:CET
END:STANDARD
END:VTIMEZONE
END:VCALENDAR