BEGIN:VCALENDAR
VERSION:2.0
PRODID:-//wp-events-plugin.com//7.2.3.1//EN
TZID:Europe/Berlin
X-WR-TIMEZONE:Europe/Berlin
BEGIN:VEVENT
UID:12044@literaturseiten-muenchen.de
DTSTART;TZID=Europe/Berlin:20251117T190000
DTEND;TZID=Europe/Berlin:20251117T210000
DTSTAMP:20251030T214033Z
URL:https://www.literaturseiten-muenchen.de/veranstaltungen/lesung-und-ges
 praech-zum-ukraine-krieg/
SUMMARY:Lesung und Gespräch zum Ukraine-Krieg
DESCRIPTION:Der vierte Abend der Reihe „andererseits“ steht ganz im Zei
 chen des russischen Angriffskriegs gegen die Ukraine\, der uns alle betrif
 ft und dessen Ende immer noch nicht absehbar ist. Die Autorin Katja Petrow
 skaja\, die für ihr Buch „Vielleicht Esther“ mehrfach ausgezeichnet w
 urde\, u. a. mit dem Aspekte-Literaturpreis\, hat sich von Anfang an auch 
 literarisch mit dem Ukraine-Krieg beschäftigt. Ihr jüngstes Buch ist ihm
  gewidmet: In „Als wäre es vorbei“ sind die Fotokolumnen versammelt\,
  die sie seit dem Februar 2022 für die Frankfurter Allgemeine Sonntagszei
 tung geschrieben hat. Dabei handelt es sich um eindringliche Text-Bild-Kom
 positionen\, die angesichts dessen\, was sich tagtäglich ereignet\, unser
 e Seh- und Lesegewohnheiten in Frage stellen. Der Osteuropahistoriker Mart
 in Schulze Wessel hat zahlreiche Essays in überregionalen Medien veröffe
 ntlicht\, die den Krieg aus einer historischen Perspektive beleuchten. 202
 3 erschien sein Buch „Der Fluch des Imperiums. Die Ukraine\, Polen und d
 er Irrweg in der russischen Geschichte“\, das den russischen Angriff im 
 Kontext der russischen Imperiengeschichte seit dem 18. Jahrhundert erklär
 t. Sein neuestes\, am 10. November erscheinendes Buch „Die übersehene N
 ation. Deutschland und die Ukraine seit dem 19. Jahrhundert“ handelt von
  den Leerstellen der deutschen Wahrnehmung der Ukraine. Es erklärt\, wesh
 alb sich Deutschland mit der Unterstützung der Ukraine lange schwertat un
 d eröffnet einen neuen Blick auf die Geschichte der deutsch-ukrainischen 
 Beziehungen. Vortragende: Katja Petrowskaja\, Autorin und Prof. Dr. Martin
  Schulze Wessel\, Inhaber des Lehrstuhls für Geschichte Ost- und Südoste
 uropas an der LMU München und Mitglied der Bayerischen Akademie der Wisse
 nschaften Moderation: Cathrin Kahlweit (Moderation)\, Journalistin Eintrit
 t frei\, Anmeldung erforderlich: https://eveeno.com/andererseits_17-11-202
 5\n\n„andererseits. Literatur trifft Wissenschaft“ ist eine gemeinsame
  Reihe der Bayerischen Akademie der Wissenschaften und des Zentrums für G
 egenwartsliteratur der LMU München. Sie bringt herausragende Literatinnen
  und Literaten unserer Gegenwart an einen Tisch mit renommierten Wissensch
 aftlerinnen und Wissenschaftlern unterschiedlicher Fachrichtungen. Auf ein
 e Lesung aus einem ausgewählten literarischen Text folgt ein Zwiegespräc
 h zwischen Literatur und Wissenschaft – über Fach-\, Themen- und Genreg
 renzen hinweg.
CATEGORIES:Gespräch / Diskussion
LOCATION:Bayerische Akademie der Wissenschaften\, Alfons-Goppel-Straße 11\
 , München\, 80539\, Deutschland
GEO:48.14158;11.580259999999953
X-APPLE-STRUCTURED-LOCATION;VALUE=URI;X-ADDRESS=Alfons-Goppel-Straße 11\, 
 München\, 80539\, Deutschland;X-APPLE-RADIUS=100;X-TITLE=Bayerische Akade
 mie der Wissenschaften:geo:48.14158,11.580259999999953
END:VEVENT
BEGIN:VTIMEZONE
TZID:Europe/Berlin
X-LIC-LOCATION:Europe/Berlin
BEGIN:STANDARD
DTSTART:20251026T020000
TZOFFSETFROM:+0200
TZOFFSETTO:+0100
TZNAME:CET
END:STANDARD
END:VTIMEZONE
END:VCALENDAR