BEGIN:VCALENDAR
VERSION:2.0
PRODID:-//wp-events-plugin.com//7.2.3.1//EN
TZID:Europe/Berlin
X-WR-TIMEZONE:Europe/Berlin
BEGIN:VEVENT
UID:11736@literaturseiten-muenchen.de
DTSTART;TZID=Europe/Berlin:20251030T190000
DTEND;TZID=Europe/Berlin:20251030T190000
DTSTAMP:20250909T090442Z
URL:https://www.literaturseiten-muenchen.de/veranstaltungen/lesungskonzert
 -mit-max-bronski/
SUMMARY:Lesungskonzert mit Max Bronski
DESCRIPTION:Eintritt frei\nVeranstaltungsort: Saal X\nMax Bronski präsenti
 ert zusammen mit Mareike Lindenmeyer seinen neuen Krimi „Die Josephsbrü
 der“ in einer szenischen Lesung mit musikalischer Untermalung von Schors
 ch Hampel. Musikalisch umrahmt wird die Lesung von einer Track 'n' Field-B
 and.\n\nSicherheitsbedürftige Klosterbrüder\, ein Trödelhändler mit zu
  viel Zeit und ein anarchistischer Sprengmeister: ein explosiv-unterhaltsa
 mer Münchner Sommerkrimi\n\nGossec hat keine Ahnung von Sicherheit. Doch 
 da sein Trödelladen in der Sommerflaute steckt und er daher reichlich Zei
 t hat\, mit seinem Nachbarn Hugo Himmelstraat im Hof zu sitzen\, über des
 sen Bienenzucht zu sinnieren und dabei gutes belgisches Bier zu trinken\, 
 wird er von seinem Kumpel Julius für einen Auftrag eingespannt: Dessen Fi
 rma CatSecurity wurde vom Kloster Hohenwartach kontaktiert\, wo in der Gol
 dschmiedewerkstatt wertvolle Sakralgeräte lagern. Bisher hat sich die kle
 ine Laienbruderschaft in Sachen Einbruchschutz auf die zuständigen Heilig
 en verlassen\, doch nun sollen diese durch moderne Sicherheitstechnik unte
 rstützt werden. Gossec wird vorgeschickt\, dann installiert CatSecurity S
 oftware und Schließsystem.\n\nDoch wenig später taucht ein Versicherungs
 detektiv bei Julius auf und stellt unangenehme Fragen: Bei den Josephsbrü
 dern ist eingebrochen und Kirchenschmuck im Wert von 100.000 Euro erbeutet
  worden – der Einbrecher hat sich mit einem Badge Eintritt verschafft\, 
 der im neuen Sicherheitssystem ausgestellt wurde. Als Gossec auf eigene Fa
 ust in der Werkstatt nachschaut\, wird er niedergeschlagen.\n\nJulius wied
 erum bekommt unangemeldet Besuch von seinem Bekannten Ludger: Dem Ex-Knack
 i und anarchistischen Einbrecher verdankt er die Idee zu seiner Sicherheit
 sfirma\, und es ist nicht ganz klar\, was der in München vorhat …\n\nWi
 eder einmal erweist sich der mehrfach ausgezeichnete Krimiautor Max Bronsk
 i als großartiger Figuren- und Plotkomponist.\n\nInformationen zur Anmeld
 ung\n\n\nOhne Anmeldung\n\n\n\n\nKooperationspartner\n\n\nBücher &amp\; m
 ehr e.V. \n\n\n
CATEGORIES:Literatur &amp; Musik
LOCATION:Münchner Stadtbibliothek im HP8\, Hans-Preißinger-Straße 8\, M
 ünchen\, Deutschland
GEO:48.111734;11.553315
X-APPLE-STRUCTURED-LOCATION;VALUE=URI;X-ADDRESS=Hans-Preißinger-Straße 8\
 , München\, Deutschland;X-APPLE-RADIUS=100;X-TITLE=Münchner Stadtbibliot
 hek im HP8:geo:48.111734,11.553315
END:VEVENT
BEGIN:VTIMEZONE
TZID:Europe/Berlin
X-LIC-LOCATION:Europe/Berlin
BEGIN:STANDARD
DTSTART:20251026T020000
TZOFFSETFROM:+0200
TZOFFSETTO:+0100
TZNAME:CET
END:STANDARD
END:VTIMEZONE
END:VCALENDAR