BEGIN:VCALENDAR
VERSION:2.0
PRODID:-//wp-events-plugin.com//7.2.3.1//EN
TZID:Europe/Berlin
X-WR-TIMEZONE:Europe/Berlin
BEGIN:VEVENT
UID:11889@literaturseiten-muenchen.de
DTSTART;TZID=Europe/Berlin:20251127T190000
DTEND;TZID=Europe/Berlin:20251127T203000
DTSTAMP:20251007T105713Z
URL:https://www.literaturseiten-muenchen.de/veranstaltungen/lets-talk-abou
 t-feelings-lesung-mit-leif-randt/
SUMMARY:»Let’s Talk About Feelings« Lesung mit Leif Randt
DESCRIPTION:Moderation: Marie Schmidt (SZ)\n\nEmotionen überall. Alle empf
 inden immer irgendwas\, spüren ihren Gefühlen hinterher und teilen auch 
 noch alles bereitwillig auf den sozialen Medien. Also dann: »Let’s talk
  about feelings«. Nach dem Tod von Carolina Flanders\, einer 70er-Jahre-M
 ode-Ikone\, muss ihr Sohn nicht nur mit seiner Trauer klarkommen\, sondern
  mit dem Leben generell. Seine Westberliner Boutique läuft mehr oder weni
 ger gut\, seine Beziehungen dergleichen. Und über allem schwebt die Frage
  nach dem Schein oder dem Sein. Das neue Buch von Leif Randt (»Allegro Pa
 stell« u.a. // Kiepenheuer &amp\; Witsch) ist Familienroman\, Komödie un
 d Gesellschafts-Satire zugleich.\n\nTickets erhältlich unter Reservix\n\n
 EINTRITT: EURO 16.- / 10.-\nSTREAM-TICKETS: EURO 8.-\n\nVeranstalter: Stif
 tung Literaturhaus
CATEGORIES:Buchpräsentation,Gespräch / Diskussion,Lesung
LOCATION:Literaturhaus München\, Salvatorplatz 1\, München\, Bayern\, 803
 33\, Deutschland
GEO:48.142051;11.574991
X-APPLE-STRUCTURED-LOCATION;VALUE=URI;X-ADDRESS=Salvatorplatz 1\, München\
 , Bayern\, 80333\, Deutschland;X-APPLE-RADIUS=100;X-TITLE=Literaturhaus M
 ünchen:geo:48.142051,11.574991
END:VEVENT
BEGIN:VTIMEZONE
TZID:Europe/Berlin
X-LIC-LOCATION:Europe/Berlin
BEGIN:STANDARD
DTSTART:20251026T020000
TZOFFSETFROM:+0200
TZOFFSETTO:+0100
TZNAME:CET
END:STANDARD
END:VTIMEZONE
END:VCALENDAR