BEGIN:VCALENDAR
VERSION:2.0
PRODID:-//wp-events-plugin.com//7.2.3.1//EN
TZID:Europe/Berlin
X-WR-TIMEZONE:Europe/Berlin
BEGIN:VEVENT
UID:11472@literaturseiten-muenchen.de
DTSTART;TZID=Europe/Berlin:20251205T170000
DTEND;TZID=Europe/Berlin:20251205T190000
DTSTAMP:20250924T084329Z
URL:https://www.literaturseiten-muenchen.de/veranstaltungen/lichterhaeusch
 enfest-2/
SUMMARY:Lichterhäuschenfest
DESCRIPTION:Das Lucienfest\, das an Arme\, Verfolgte und Kranke und an den 
 Mut einer jungen Frau erinnert\, wird traditionell in Schweden gefeiert. E
 in Mädchen in weißem Kleid mit einem Lichterkranz auf dem Kopf zieht dur
 ch die Orte. Auch in Italien gibt es im Dezember Lucien-Lichterumzüge.\n\
 nIn der Internationalen Jugendbibliothek feiern wir das Lichterhäuschenfe
 st in dieser Tradition seit über 30 Jahren. Mit selbst gebastelten Lichte
 rhäuschen folgt zum Auftakt des Blutenburger Weihnachtsmarkts ein langer 
 Zug von Kindern und Eltern Lucia um den Schlossweiher. Sobald es dunkel is
 t\, werden die Lichterhäuschen auf das Wasser gesetzt\, das sich in ein f
 unkelndes Lichtermeer verwandelt.\n\nEintritt frei\, eine Anmeldung ist ni
 cht erforderlich.
CATEGORIES:Weitere Veranstaltungen
LOCATION:Internationale Jugendbibliothek\, Jella-Lepman-Saal\, Schloss Blut
 enburg\, München\, Bayern\, 81247\, Deutschland
GEO:48.163081;11.457213
X-APPLE-STRUCTURED-LOCATION;VALUE=URI;X-ADDRESS=Schloss Blutenburg\, Münch
 en\, Bayern\, 81247\, Deutschland;X-APPLE-RADIUS=100;X-TITLE=International
 e Jugendbibliothek\, Jella-Lepman-Saal:geo:48.163081,11.457213
END:VEVENT
BEGIN:VTIMEZONE
TZID:Europe/Berlin
X-LIC-LOCATION:Europe/Berlin
BEGIN:STANDARD
DTSTART:20251026T020000
TZOFFSETFROM:+0200
TZOFFSETTO:+0100
TZNAME:CET
END:STANDARD
END:VTIMEZONE
END:VCALENDAR