BEGIN:VCALENDAR
VERSION:2.0
PRODID:-//wp-events-plugin.com//7.2.3.1//EN
TZID:Europe/Berlin
X-WR-TIMEZONE:Europe/Berlin
BEGIN:VEVENT
UID:12142@literaturseiten-muenchen.de
DTSTART;TZID=Europe/Berlin:20251216T200000
DTEND;TZID=Europe/Berlin:20251216T200000
DTSTAMP:20251116T211524Z
URL:https://www.literaturseiten-muenchen.de/veranstaltungen/lieb-mich-heis
 s-an-kalten-tagen-reiwas-und-johannes-thalmayr/
SUMMARY:Lieb mich heiß an kalten Tagen: REIWAS und Johannes Thalmayr
DESCRIPTION:Wärmende Worte und berührende Klänge\n\nNicht nur mit den Fa
 rben der Musik\, sondern auch auf der Klaviatur menschlicher Emotionen spi
 elen REIWAS in ihrem Programm „Lieb mich heiß an kalten Tagen“. Lyris
 che Unterstützung haben sie dabei von Autor Johannes Thalmayr\, der mit G
 edichten und Geschichten für wärmende Gedanken im kalten Winter sorgt.\n
 \nEmotionale Expedition\n\nIn der ihr eigenen Mischung aus Folk\, Pop und 
 Jazz erzählt die Band REIWAS eine musikalische Geschichte von den Freuden
  und Leiden der Liebe. Ein „bisserl“ fühlen also\, ein paar wärmende
  Gedanken im kalten Winter. Literarisch begleitet werden sie dabei von Joh
 annes Thalmayr. In eigenen Gedichten und Geschichten geht der bislang vor 
 allem für seine Magazinbeiträge bekannte Journalist und Autor mit viel W
 itz – mal romantisch\, mal aber auch bedächtig – dem „Wunder der Li
 ebe“ auf die Spur und regt dabei zum Lachen\, Sinnieren und Schwelgen an
 . Die Grundlage für seine Texte bilden dabei die poetischen Songs von REI
 WAS\, die Thalmayr in wortgewaltiger Lyrik zu einem Programm verwebt\, das
  die Zuhörer auf emotionale Expedition schickt. Also: In sich hineinhöre
 n und spüren!\n\nDer Sound der REIWAS\n\nWenn REIWAS anfangen dreistimmig
  zu singen\, begleitet vom atmosphärischen Sound des Akkordeons und der G
 itarre\, kann man abtauchen\, hinein in eine inspirierende Stimmungswelt. 
 Schnelle Tempiwechsel tanzen auf dem erdigen Fundament des Kontrabasses. D
 as Schlagzeug komplettiert diesen bayerischen Akustiksound\, der das Publi
 kum mitten hineinzieht in die Leichtigkeit der wirbelnden Rhythmen. Manche
  hält es da kaum mehr auf den Sitzen. Andere genießen sanft auf ihren St
 ühlen hin und her wiegend. Denn die Songs der REIWAS erzählen musikalisc
 he Geschichten\, die das Leben schreibt und die den Alltag vergessen lasse
 n.\n\nBesetzung\n\nJosef Steinbacher (Akkordeon\, Gesang)\nKatrin Auer (Ko
 ntrabass\, Gesang)\nSimon Harscheidt (Gitarre\, Gesang)\nLeonhard Schwarz 
 (Schlagzeug)\nJohannes Thalmayr (Lesung)\n\nTickets: MünchenTicket\, 13\,
 50-28€
CATEGORIES:Lesung,Literatur &amp; Musik
LOCATION:Deutsches Theater\, Schwanthalerstr. 13\, München\, 80336\, Deuts
 chland
GEO:48.137213;11.56265
X-APPLE-STRUCTURED-LOCATION;VALUE=URI;X-ADDRESS=Schwanthalerstr. 13\, Münc
 hen\, 80336\, Deutschland;X-APPLE-RADIUS=100;X-TITLE=Deutsches Theater:geo
 :48.137213,11.56265
END:VEVENT
BEGIN:VTIMEZONE
TZID:Europe/Berlin
X-LIC-LOCATION:Europe/Berlin
BEGIN:STANDARD
DTSTART:20251026T020000
TZOFFSETFROM:+0200
TZOFFSETTO:+0100
TZNAME:CET
END:STANDARD
END:VTIMEZONE
END:VCALENDAR