BEGIN:VCALENDAR
VERSION:2.0
PRODID:-//wp-events-plugin.com//7.2.3.1//EN
TZID:Europe/Berlin
X-WR-TIMEZONE:Europe/Berlin
BEGIN:VEVENT
UID:12361@literaturseiten-muenchen.de
DTSTART;TZID=Europe/Berlin:20260117T190000
DTEND;TZID=Europe/Berlin:20260117T210000
DTSTAMP:20260115T094636Z
URL:https://www.literaturseiten-muenchen.de/veranstaltungen/literarischer-
 abend-mit-damir-karakas/
SUMMARY:Literarischer Abend mit Damir Karakaš
DESCRIPTION:Einer der bedeutendsten zeitgenössischen Schriftsteller des eh
 emaligen Jugoslawiens kommt für einen Abend mit Vorträgen nach München\
 nEiner der bedeutendsten und preisgekrönten zeitgenössischen Schriftstel
 ler des ehemaligen Jugoslawiens kommt für einen Abend mit Vorträgen\, Le
 sungen und Begegnungen mit dem Publikum nach München.\n\nDamir Karakaš i
 st Autor von vierzehn Büchern\, Träger der wichtigsten regionalen und in
 ternationalen Literaturpreise. Seine Werke wurden ins Deutsche\, Englische
 \, Französische\, Italienische\, Arabische und zahlreiche weitere Sprache
 n übersetzt. Kritiker zählen ihn zu den wenigen Autoren\, deren Stimme t
 ief in der literarischen Tradition des Balkans verwurzelt und gleichzeitig
  in der zeitgenössischen europäischen und Weltliteratur stark präsent i
 st.\n\nSein Roman „Proslava“ zählt zu den Schlüsselwerken der zeitge
 nössischen Literatur. Der Roman wurde als preisgekrönter Film adaptiert\
 , ist Bestandteil von Universitätslehrplänen in Europa und den USA und g
 ilt als Werk\, das sich mit den schwierigsten Fragen der Geschichte\, der 
 Gewalt und der menschlichen Verantwortung auseinandersetzt. Internationale
  und regionale Kritiker beschreiben Karakaschs Stil als reduziert\, präzi
 se und kraftvoll und vergleichen ihn mit Autoren wie Pasternak\, Solscheni
 zyn und Hamsun.\n\nKarakaš’ Literatur bietet keine einfachen Erklärung
 en oder Trostpflaster. Sie erforscht das Böse\, die Angst\, das Schweigen
  und das Erbe – nicht um sie zu rechtfertigen\, sondern um sie zu verste
 hen. Es sind Texte\, die verstören\, aber noch lange nach der Lektüre na
 chwirken.\n\nDieser Abend ist all jenen gewidmet\, die Literatur suchen\, 
 die Spuren hinterlässt und Raum für tiefgründige Gespräche schafft.\n\
 nAbendprogramm\n\n• Gespräch mit dem Autor\n\n• Lesung ausgewählter 
 Texte\n\n• Publikumsgespräch\n\nhttps://www.eventbrite.de/e/literarisch
 er-abend-mit-damir-karakas-tickets-1978770876960?aff=erelexpmlt
CATEGORIES:Literatur &amp; Musik
LOCATION:IG Feuerwache\, Ganghoferstr. 41\, München\, 80339\, Deutschland
GEO:48.130407;11.540293
X-APPLE-STRUCTURED-LOCATION;VALUE=URI;X-ADDRESS=Ganghoferstr. 41\, München
 \, 80339\, Deutschland;X-APPLE-RADIUS=100;X-TITLE=IG Feuerwache:geo:48.130
 407,11.540293
END:VEVENT
BEGIN:VTIMEZONE
TZID:Europe/Berlin
X-LIC-LOCATION:Europe/Berlin
BEGIN:STANDARD
DTSTART:20251026T020000
TZOFFSETFROM:+0200
TZOFFSETTO:+0100
TZNAME:CET
END:STANDARD
END:VTIMEZONE
END:VCALENDAR