BEGIN:VCALENDAR
VERSION:2.0
PRODID:-//wp-events-plugin.com//7.2.3.1//EN
TZID:Europe/Berlin
X-WR-TIMEZONE:Europe/Berlin
BEGIN:VEVENT
UID:12157@literaturseiten-muenchen.de
DTSTART;TZID=Europe/Berlin:20251124T190000
DTEND;TZID=Europe/Berlin:20251124T210000
DTSTAMP:20251118T103514Z
URL:https://www.literaturseiten-muenchen.de/veranstaltungen/literarischer-
 abend-mit-nora-bossong/
SUMMARY:Literarischer Abend mit Nora Bossong
DESCRIPTION:Wie verändern sich Individuen\, wenn sich die Gesellschaft wan
 delt – und umgekehrt? Diese Frage zieht sich durch das Werk der vielfach
  ausgezeichneten Autorin Nora Bossong. In ihren Büchern richtet sie den B
 lick auf die feinen Verflechtungen von persönlicher Erfahrung und politis
 cher Wirklichkeit. Sie zeigt\, wie äußere Umbrüche individuelle Krisen 
 hervorrufen können – und wie die Neuorientierung eigener Werte und Übe
 rzeugungen wiederum gesellschaftlich wirkmächtig werden kann.\n\nNach ein
 er Einführung und der Lesung ausgewählter Textstellen wird Nora Bossong 
 mit dem Literaturwissenschaftler Markus May ins Gespräch kommen – eine 
 Einladung über die Dynamiken von Transformation und die gegenseitige Abh
 ängigkeit von privatem Erleben und öffentlichem Wandel nachzudenken.\n\n
 Im Anschluss laden wir ein zur Begegnung mit der Autorin bei Wein und Brot
 .\n\nAnmeldung erforderlich\, Anmeldung unter\nhttps://kath-akademie-bayer
 n.de/veranstaltung/jenseits-der-schutzzonen/\noder per E-Mail an anmeldung
 @kath-akademie-bayern.de (hier bitte Name\, Anschrift\, Telefonnummer sowi
 e den Veranstaltungstitel angeben)\n\nKosten: 10\,- € pro Person\nErmä
 ßigung: 50% für Menschen in Ausbildung/Studium bis zum 30. Lebensjahr un
 d Bürgergeldempfänger:innen gegen Nachweis (z.B. München-Pass o.ä.)
CATEGORIES:Gespräch / Diskussion
LOCATION:Katholische Akademie in Bayern\, Mandlstr. 23\, München\, Bayern\
 , 80802\, Deutschland
GEO:48.159996;11.591287
X-APPLE-STRUCTURED-LOCATION;VALUE=URI;X-ADDRESS=Mandlstr. 23\, München\, B
 ayern\, 80802\, Deutschland;X-APPLE-RADIUS=100;X-TITLE=Katholische Akademi
 e in Bayern:geo:48.159996,11.591287
END:VEVENT
BEGIN:VTIMEZONE
TZID:Europe/Berlin
X-LIC-LOCATION:Europe/Berlin
BEGIN:STANDARD
DTSTART:20251026T020000
TZOFFSETFROM:+0200
TZOFFSETTO:+0100
TZNAME:CET
END:STANDARD
END:VTIMEZONE
END:VCALENDAR