BEGIN:VCALENDAR
VERSION:2.0
PRODID:-//wp-events-plugin.com//7.2.3.1//EN
TZID:Europe/Berlin
X-WR-TIMEZONE:Europe/Berlin
BEGIN:VEVENT
UID:12364@literaturseiten-muenchen.de
DTSTART;TZID=Europe/Berlin:20260210T183000
DTEND;TZID=Europe/Berlin:20260210T203000
DTSTAMP:20260114T133437Z
URL:https://www.literaturseiten-muenchen.de/veranstaltungen/literaturclub-
 fuer-jugendliche-und-junge-erwachsene/
SUMMARY:Literaturclub für Jugendliche und junge Erwachsene
DESCRIPTION:Eingeladen sind junge Menschen\, die sich für Literatur intere
 ssieren. Es wird über das Buch "Amerika“ Autor: Franz Kafka in russisch
 er Sprache diskutiert.\n\nPrag zu Beginn des 20. Jahrhunderts. Der sechzeh
 njährige Karl Roßmann wird wegen eines undurchsichtigen erotischen Verh
 ältnisses mit einem Dienstmädchen von seinen Eltern hart bestraft: Sie s
 chicken ihn nach Amerika. Doch was als Strafe gedacht war\, eröffnet dem 
 Jungen ein neues Leben\, fernab der konservativen Heimat. Mit großen Auge
 n sucht er nach seinem Platz in dieser neuen Welt mit ihren Großstadtmetr
 opolen\, ihrem Optimismus und hemmungslosem Kapitalismus. Die Suche des ju
 ngen Karls wird jedoch bald zu einer Odyssee. Der reiche Onkel\, der sich 
 seiner zunächst annimmt\, verstößt ihn bald wegen einer weiteren zwieli
 chtigen Affäre. Karl wird Liftboy im "Hotel Occidental"\, dessen undurchs
 chaubarer Verwaltungsapparat\, von gesichtslosen\, bürokratischen Kräfte
 n im Hintergrund regiert\, zum Sinnbild anonymer Macht wird. Karl fühlt s
 ich ohnmächtig angesichts dieser ganz und gar unbegreiflichen\, sich stet
 s entziehenden Organisation. Schließlich findet er Unterschlupf bei der S
 ängerin Brunelda \, die ihn jedoch erneut in ein sexuelles Spiel der Abh
 ängigkeiten verstrickt.\nKafkas Romanfragment "Amerika" (1927) ist eine R
 arität\, die lange im Schatten der bekannteren Romane stand. Leichter\, w
 eniger düster\, aber nicht minder meisterhaft formuliert bietet es ein fe
 sselndes Lesevergnügen und einen Schlüssel zu den späteren Werken.\n\n&
 nbsp\;\n\nDas Tolstoi Hilfs- und Kulturwerk mit seiner Bibliothek und Sozi
 alberatung unterstützt seit Jahrzehnten russischsprachige Zuwanderer und 
 Geflüchtete jeder Nationalität und Konfession.\n\nDie Tolstoi-Bibliothek
  bietet neben den fast 60.000 Büchern in russischer Sprache ein kulturell
 es Veranstaltungs- und Kursprogramm.\n\nDie Sozialberatung ist eine neutra
 le Anlaufstelle für alle Zuwanderer\, wo niederschwellig und unkomplizier
 t geholfen wird.
CATEGORIES:Lesung
LOCATION:Tolstoi-Bibliothek\, Aldringenstrasse 4\, München\, Bayern\, 8063
 9\, Deutschland
GEO:48.155605;11.530988
X-APPLE-STRUCTURED-LOCATION;VALUE=URI;X-ADDRESS=Aldringenstrasse 4\, Münch
 en\, Bayern\, 80639\, Deutschland;X-APPLE-RADIUS=100;X-TITLE=Tolstoi-Bibli
 othek:geo:48.155605,11.530988
END:VEVENT
BEGIN:VTIMEZONE
TZID:Europe/Berlin
X-LIC-LOCATION:Europe/Berlin
BEGIN:STANDARD
DTSTART:20251026T020000
TZOFFSETFROM:+0200
TZOFFSETTO:+0100
TZNAME:CET
END:STANDARD
END:VTIMEZONE
END:VCALENDAR