BEGIN:VCALENDAR
VERSION:2.0
PRODID:-//wp-events-plugin.com//7.2.3.1//EN
TZID:Europe/Berlin
X-WR-TIMEZONE:Europe/Berlin
BEGIN:VEVENT
UID:12636@literaturseiten-muenchen.de
DTSTART;TZID=Europe/Berlin:20260428T180000
DTEND;TZID=Europe/Berlin:20260428T193000
DTSTAMP:20260302T153349Z
URL:https://www.literaturseiten-muenchen.de/veranstaltungen/literaturfest-
 gemein-oder-frei-gespraech-mit-lukas-mezger-thomas-straessle/
SUMMARY:LITERATURFEST: »Gemein oder frei?« Gespräch mit Lukas Mezger &am
 p\; Thomas Strässle
DESCRIPTION:LITERATURFEST 2026\n\nModeration: Maiken Hagemeister\n\n»Der Z
 auberberg« als Netflix-Serie? Triggerwarnung bei »Medea« oder\, noch be
 sser: moralische Entschärfung? Dürfen klassische Texte angepasst werden\
 , um in unsere Gegenwart zu passen? Ein Panel über Fluch und Segen von Ge
 meinfreiheit.\n\nWas wäre wenn… Gregor Samsa eines Morgens nicht als Un
 geziefer\, sondern als Schmetterling erwachte? Wenn Hans Castorp zusammen 
 mit Madame Chauchat ins Tal gefahren wäre? Franz Kafka und Thomas Mann si
 nd sind zwei berühmte Beispiele: Ihre Werke wurden kürzlich – 70 Jahre
  nach ihrem Tod – »gemeinfrei«. Ob klassische Prosa verfremdet und zu 
 Serien verarbeitet\, ob klassische Dramen ergänzt\, erweitert und für ei
 n heutiges Publikum textlich aufbereitet werden dürfen – darüber schei
 den sich die Geister. Was ist zulässig – und was vielleicht sogar nöti
 g? Insbesondere in Zeiten digitaler Verfügbarkeit ist Gemeinfreiheit nich
 t nur ein Thema von juristischer\, sondern auch von politischer Virulenz. 
 Mit Maiken Hagemeister von Wikimedia Deutschland diskutieren: Thomas Strä
 ssle\, Präsident des Stiftungsrates der Max Frisch-Stiftung\, und der Med
 ienrechtsanwalt Lukas Mezger.\n\nEintritt frei. Anmeldung erforderlich unt
 er monacensia.programm@muenchen.de\n\nVeranstalter: Literaturfest München
CATEGORIES:Festival,Gespräch / Diskussion
LOCATION:Monacensia im Hildebrandhaus\, Maria-Theresia-Str. 23\, München\,
  Deutschland
GEO:48.1436397;11.598950100000024
X-APPLE-STRUCTURED-LOCATION;VALUE=URI;X-ADDRESS=Maria-Theresia-Str. 23\, M
 ünchen\, Deutschland;X-APPLE-RADIUS=100;X-TITLE=Monacensia im Hildebrandh
 aus:geo:48.1436397,11.598950100000024
END:VEVENT
BEGIN:VTIMEZONE
TZID:Europe/Berlin
X-LIC-LOCATION:Europe/Berlin
BEGIN:DAYLIGHT
DTSTART:20260329T030000
TZOFFSETFROM:+0100
TZOFFSETTO:+0200
TZNAME:CEST
END:DAYLIGHT
END:VTIMEZONE
END:VCALENDAR