BEGIN:VCALENDAR
VERSION:2.0
PRODID:-//wp-events-plugin.com//7.2.3.1//EN
TZID:Europe/Berlin
X-WR-TIMEZONE:Europe/Berlin
BEGIN:VEVENT
UID:12633@literaturseiten-muenchen.de
DTSTART;TZID=Europe/Berlin:20260427T203000
DTEND;TZID=Europe/Berlin:20260427T220000
DTSTAMP:20260302T145344Z
URL:https://www.literaturseiten-muenchen.de/veranstaltungen/literaturfest-
 kaempfen-fuer-die-freiheit-gespraech-mit-artur-weigandt-ole-nymoen/
SUMMARY:LITERATURFEST: »Kämpfen für die Freiheit?« Gespräch mit Artur 
 Weigandt &amp\; Ole Nymoen
DESCRIPTION:\n\nLITERATURFEST 2026\n\nGespräch: Mithu Sanyal\n\nUnsere Fre
 iheit verteidigen – im Zweifel auch mit Waffen? Dieser Abend stellt eine
  der wichtigsten Freiheitsfragen der Gegenwart: Was schuldet der Einzelne 
 der Gesellschaft\, wenn Krieg droht?\n\n»Für euch würde ich kämpfen« 
 – das macht Artur Weigandt in seinem aktuellen Buch (C.H.Beck) unmissver
 ständlich deutlich. Als Dolmetscher für ukrainische Soldaten erlebte er\
 , was es wirklich heißt\, für sein Land zu kämpfen. Eigentlich glühend
 er Pazifist\, fordert er daher konkret dazu auf\, der Realität ins Auge z
 u blicken. Denn: »Freiheit ist kein Geschenk\, sie wird erkämpft«.\n\nG
 anz anders sieht es Ole Nymoen. In »Warum ich niemals für mein Land käm
 pfen würde« (Rowohlt) hinterfragt er\, wem der Dienst an der Waffe wirkl
 ich dient – und wem gerade nicht.\n\nUnd die gefeierte Autorin Mithu San
 yal (»Antichristie«\, Hanser\, 2024) hat sich vehement gegen eine Wieder
 einführung der Wehrpflicht ausgesprochen: »Deutschland hat seine Bürger
  dazu erzogen\, den Krieg zu hassen. Jetzt will es\, dass wir uns zur Arme
 e melden – aber wir sagen nein« (in The Guardian).\n\nMuss Widerstand\,
  wenn er moralisch einwandfrei sein möchte\, gewaltfrei sein? Wer wird im
  Ernstfall kämpfen und wer kann (darf) sich entziehen? Und endet unsere p
 ersönliche Freiheit\, wenn die des Landes auf dem Spiel steht? Ein Abend 
 zu einem der meistdiskutierten Themen unserer Gegenwart.\n\nTickets erhäl
 tlich unter ReserviX.\nEINTRITT: EURO 16.- / 10.-  // Kostenloses Festiva
 l-Streaming\, ausschließlich live abrufbar\, es wird keine Aufzeichnung a
 ngeboten.\n\nVeranstalter: Literaturfest München\n\n
CATEGORIES:Festival,Gespräch / Diskussion,Lesung
LOCATION:Literaturhaus\, Salvatorplatz 1\, München\, Bayern\, Deutschland
GEO:48.142051;11.574991
X-APPLE-STRUCTURED-LOCATION;VALUE=URI;X-ADDRESS=Salvatorplatz 1\, München\
 , Bayern\, Deutschland;X-APPLE-RADIUS=100;X-TITLE=Literaturhaus:geo:48.142
 051,11.574991
END:VEVENT
BEGIN:VTIMEZONE
TZID:Europe/Berlin
X-LIC-LOCATION:Europe/Berlin
BEGIN:DAYLIGHT
DTSTART:20260329T030000
TZOFFSETFROM:+0100
TZOFFSETTO:+0200
TZNAME:CEST
END:DAYLIGHT
END:VTIMEZONE
END:VCALENDAR