BEGIN:VCALENDAR
VERSION:2.0
PRODID:-//wp-events-plugin.com//7.2.3.1//EN
TZID:Europe/Berlin
X-WR-TIMEZONE:Europe/Berlin
BEGIN:VEVENT
UID:12625@literaturseiten-muenchen.de
DTSTART;TZID=Europe/Berlin:20260425T143000
DTEND;TZID=Europe/Berlin:20260425T153000
DTSTAMP:20260302T153720Z
URL:https://www.literaturseiten-muenchen.de/veranstaltungen/literaturfest-
 kunst-als-widerstand-dan-perjovschi/
SUMMARY:LITERATURFEST: »Kunst als Widerstand« Dan Perjovschi
DESCRIPTION:LITERATURFEST 2026\n\nGespräch: Dana Grigorcea\n\nDana Grigorc
 ea lernte den »Freedom Artist« Dan Perjovschi (* 1961) durch seine Arbei
 t in Rumänien kennen: Seine Cartoons und Piktogramme – mit dickem schwa
 rzem Stift auf große weiße Flächen\, häufig direkt auf Wände\, gezeic
 hnet und geschrieben – erschlossen sich ihr unmittelbar. Perjovschis The
 men kreisen um Freiheit\, Zensur und Propaganda\, die er mit seinen Arbeit
 en kritisch konterkariert. Längst ist er international bekannt\, werden s
 eine (temporären) Werke weltweit gezeigt (MoMA\, Biennale di Venezia u. a
 .). Für das Literaturfest entwickelt er ein wachsendes Kunstwerk\; mit Da
 na Grigorcea spricht er über Kunst als unmittelbare Reaktion auf Politik:
  Warum muss sie genau dort entstehen\, wo sie stört?\n\nTickets erhältli
 ch unter ReserviX.\nKarten-VVK startet am 1.3.26 um 10 Uhr\nEINTRITT: Euro
  10.- / 8.-\nDAUER: 14.30 Uhr bis 15.30 Uhr\n\nVeranstaltungssprache: ENGL
 ISCH\n\nVeranstalter: Literaturfest München
CATEGORIES:Festival,Gespräch / Diskussion,Weitere Veranstaltungen
LOCATION:Literaturhaus\, Salvatorplatz 1\, München\, Bayern\, Deutschland
GEO:48.142051;11.574991
X-APPLE-STRUCTURED-LOCATION;VALUE=URI;X-ADDRESS=Salvatorplatz 1\, München\
 , Bayern\, Deutschland;X-APPLE-RADIUS=100;X-TITLE=Literaturhaus:geo:48.142
 051,11.574991
END:VEVENT
BEGIN:VTIMEZONE
TZID:Europe/Berlin
X-LIC-LOCATION:Europe/Berlin
BEGIN:DAYLIGHT
DTSTART:20260329T030000
TZOFFSETFROM:+0100
TZOFFSETTO:+0200
TZNAME:CEST
END:DAYLIGHT
END:VTIMEZONE
END:VCALENDAR