BEGIN:VCALENDAR
VERSION:2.0
PRODID:-//wp-events-plugin.com//7.2.3.1//EN
TZID:Europe/Berlin
X-WR-TIMEZONE:Europe/Berlin
BEGIN:VEVENT
UID:12620@literaturseiten-muenchen.de
DTSTART;TZID=Europe/Berlin:20260423T200000
DTEND;TZID=Europe/Berlin:20260423T213000
DTSTAMP:20260302T153823Z
URL:https://www.literaturseiten-muenchen.de/veranstaltungen/literaturfest-
 lesen-hoeren-feiern-doris-doerrie-dana-grigorcea-florian-paul-die-kapelle-
 der-letzten-hoffnung-christian-springer-meike-winnemuth-josi-wismar-u-a/
SUMMARY:LITERATURFEST: »Lesen\, hören\, feiern!« Doris Dörrie\, Dana Gr
 igorcea\, Florian Paul &amp\; die Kapelle der letzten Hoffnung\, Christian
  Springer\, Meike Winnemuth\, Josi Wismar u.a.
DESCRIPTION:LITERATURFEST 2026\n\nModeration: Christina Wolf\, Miriam Fendt
 \, Judith Heitkamp\n\nEs ist der schönste Feiertag für alle\, die Büche
 r lieben: Der 23. April\, Welttag des Buches\, ist längst ein Lesefest ru
 nd um den Globus. Zum Literaturfest die große Lese-Gala\, live übertrage
 n von Bayern 2.\n\nUrsprünglich eine charmante Tradition aus Katalonien: 
 An diesem Tag beschenkt man seine Familie\, seine Nachbarn\, Freundinnen u
 nd sich selbst mit einem Buch. Längst ist der »Welttag des Buches« von 
 der UNESCO zum Aktionstag fürs Lesen\, für Bücher und die Kultur des ge
 schriebenen Wortes erklärt. Das Literaturfest feiert ihn mit Star-Autorin
 nen Doris Dörrie (»Leben\, schreiben\, atmen«\, Diogenes)\, Meike Winne
 muth (»Eine Seite noch. Warum Lesen uns so glücklich macht«\, Penguin) 
 und Literaturfest-Kuratorin Dana Grigorcea (»Tanzende Frau\, blauer Hahn
 «\, Penguin). #BookTokerin und Bestsellerautorin Josi Wismar zeigt\, wie 
 sie junge Menschen über Social Media per Livestream fürs Mit-Schreiben b
 egeistert. Und Kabarettist Christian Springer begleitet den Abend als poin
 tierter Sidekick.\n\nDazu gibt es wunderschönen Chanson-Pop mit der anges
 agtesten Band der Stunde: Florian Paul &amp\; die Kapelle der letzten Hoff
 nung.\n\nAußerdem dabei: Buchhändler\, Verlegerinnen\, Podcaster und jed
 e Menge leidenschaftliche Leserinnen und Leser.\n\nTickets erhältlich unt
 er ReserviX.\nEINTRITT: EURO 20.- / 15.-\n\nLive-Übertragung: Bayern 2 &a
 mp\; tiktok.com/@ARD_Literally\n\nVeranstalter: Literaturfest München // 
 In Kooperation mit Bayern 2 und dem Börsenverein des deutschen Buchhandel
 s\, Landesverband Bayern e. V.
CATEGORIES:Festival,Gespräch / Diskussion,Lesung
LOCATION:Literaturhaus\, Salvatorplatz 1\, München\, Bayern\, Deutschland
GEO:48.142051;11.574991
X-APPLE-STRUCTURED-LOCATION;VALUE=URI;X-ADDRESS=Salvatorplatz 1\, München\
 , Bayern\, Deutschland;X-APPLE-RADIUS=100;X-TITLE=Literaturhaus:geo:48.142
 051,11.574991
END:VEVENT
BEGIN:VTIMEZONE
TZID:Europe/Berlin
X-LIC-LOCATION:Europe/Berlin
BEGIN:DAYLIGHT
DTSTART:20260329T030000
TZOFFSETFROM:+0100
TZOFFSETTO:+0200
TZNAME:CEST
END:DAYLIGHT
END:VTIMEZONE
END:VCALENDAR