BEGIN:VCALENDAR
VERSION:2.0
PRODID:-//wp-events-plugin.com//7.2.3.1//EN
TZID:Europe/Berlin
X-WR-TIMEZONE:Europe/Berlin
BEGIN:VEVENT
UID:12637@literaturseiten-muenchen.de
DTSTART;TZID=Europe/Berlin:20260428T203000
DTEND;TZID=Europe/Berlin:20260428T220000
DTSTAMP:20260302T150410Z
URL:https://www.literaturseiten-muenchen.de/veranstaltungen/literaturfest-
 sommer-24-navid-kermani/
SUMMARY:LITERATURFEST: »Sommer 24« Navid Kermani
DESCRIPTION:LITERATURFEST 2026\n\nModeration: Dana Grigorceca\n\nElegant\, 
 assoziativ\, nachdenklich: Der Ich-Erzähler im neuen Roman von Navid Kerm
 ani legt Rechenschaft ab über eigene Weltbilder und Vorurteile. Wie frei 
 sind wir\, wenn persönliche und globale Umbrüche unsere vertraute Welt e
 rschüttern?\n\nEr ist einer der wichtigsten deutschsprachigen Autoren: Fr
 iedenspreisträger Navid Kermani. In seinem neuen Roman »Sommer 24« (Han
 ser) erzählt er von existentiellen Erschütterungen: Ein Freund\, der zul
 etzt politisch auf Abwege geraten war\, hat sich das Leben genommen. Krieg
 e rücken näher und Debatten werden schriller. Seine Freundin hält den E
 rzähler für einen Macho\, aber das bleibt bei weitem nicht der schlimmst
 e Vorwurf\, der sein Selbstbild in Frage stellt.\n\nNavid Kermani zeigt un
 sere Gegenwart aus ihren Widersprüchen heraus. Wie können wir das schein
 bar Unversöhnliche versöhnen? Und\, wichtiger noch\, wie halten wir aus\
 , was unversöhnlich bleibt? Ein existenzieller\, hellsichtiger Roman übe
 r unsere Zeit.\n\nTickets erhältlich unter ReserviX.\nEINTRITT: EURO 16.-
  / 10.-  // Stream ist ausschließlich live abrufbar\, es wird keine Aufz
 eichnung angeboten.\n\nVeranstalter: Literaturfest München
CATEGORIES:Festival,Gespräch / Diskussion,Lesung
LOCATION:Literaturhaus\, Salvatorplatz 1\, München\, Bayern\, Deutschland
GEO:48.142051;11.574991
X-APPLE-STRUCTURED-LOCATION;VALUE=URI;X-ADDRESS=Salvatorplatz 1\, München\
 , Bayern\, Deutschland;X-APPLE-RADIUS=100;X-TITLE=Literaturhaus:geo:48.142
 051,11.574991
END:VEVENT
BEGIN:VTIMEZONE
TZID:Europe/Berlin
X-LIC-LOCATION:Europe/Berlin
BEGIN:DAYLIGHT
DTSTART:20260329T030000
TZOFFSETFROM:+0100
TZOFFSETTO:+0200
TZNAME:CEST
END:DAYLIGHT
END:VTIMEZONE
END:VCALENDAR