BEGIN:VCALENDAR
VERSION:2.0
PRODID:-//wp-events-plugin.com//7.2.3.1//EN
TZID:Europe/Berlin
X-WR-TIMEZONE:Europe/Berlin
BEGIN:VEVENT
UID:12619@literaturseiten-muenchen.de
DTSTART;TZID=Europe/Berlin:20260423T170000
DTEND;TZID=Europe/Berlin:20260423T190000
DTSTAMP:20260302T135742Z
URL:https://www.literaturseiten-muenchen.de/veranstaltungen/literaturfest-
 zusammen-liest-man-weniger-allein-silent-reading/
SUMMARY:LITERATURFEST: »Zusammen liest man weniger allein« Silent Reading
DESCRIPTION:LITERATURFEST 2026\n\nMit Kaffee-Bar\nLeitung: Franziska Osterh
 ammer &amp\; Miriam Liesting\n\nAm besten liest es sich zu Hause auf dem S
 ofa oder im Lieblingssessel. Allein. Oder? Erstmals beim Literaturfest Mü
 nchen: Silent Reading.Wer schon einmal den erkennenden Blick anderer Lesen
 der in einem Café aufgefangen hat\, wer über die eigene Lektüre oder di
 e des anderen ganz plötzlich ins Gespräch gekommen ist\, weiß: Geteilte
 s Glück ist doppeltes Glück und zusammen liest man weniger allein.\n\nIm
  Rahmen des Literaturfests München 2026 bitten Franziska Osterhammer und 
 Miriam Liesting\, Münchnerinnen und leidenschaftliche Leserinnen\, zum st
 illen\, gemeinsamen Lesen. Gelesen wird\, was gefällt\, egal ob Roman\, S
 achbuch\, Lyrik oder Comic. Einzige Vorgabe: Die mitgebrachten Bücher sol
 lten sich\, auf welche\nArt auch immer mit »Freiheit« beschäftigen.\n\n
 Im Jahr 2025 hat die Reihe »Was München liest« begonnen\, seitdem finde
 n die Treffen in loser Folge an den unterschiedlichsten Orten statt. Alle 
 Informationen gibt es das ganze Jahr über auf Instagram unter (@wasmuench
 enliest).\n\nIn der Bibliothek im Literaturhaus lesen die Teilnehmer*innen
  selbst mitgebrachte Bücher – so einfach\, so schön\, eine halbe bis e
 ine knappe Stunde lang. Im Anschluss lädt ein moderierter Austausch in kl
 einen Gruppen dazu ein\, neue Bekanntschaften unter Gleichgesinnten zu sch
 ließen. Und für alle\, die kein eigenes Buch dabei haben\, gibt es einen
  Büchertisch mit einer Auswahl an Leih- Titeln. Also dann: Wir sehen uns 
 beim Lesen!\n\nEintritt frei. Anmeldung unter mail@literaturhaus-muenchen.
 de.\n\nGruppengröße: bis 40 Personen\n\nVeranstalter: Literaturfest Mün
 chen // In Kooperation mit @wasmuenchenliest
CATEGORIES:Lesekreis
LOCATION:Literaturhaus\, Salvatorplatz 1\, München\, Bayern\, Deutschland
GEO:48.142051;11.574991
X-APPLE-STRUCTURED-LOCATION;VALUE=URI;X-ADDRESS=Salvatorplatz 1\, München\
 , Bayern\, Deutschland;X-APPLE-RADIUS=100;X-TITLE=Literaturhaus:geo:48.142
 051,11.574991
END:VEVENT
BEGIN:VTIMEZONE
TZID:Europe/Berlin
X-LIC-LOCATION:Europe/Berlin
BEGIN:DAYLIGHT
DTSTART:20260329T030000
TZOFFSETFROM:+0100
TZOFFSETTO:+0200
TZNAME:CEST
END:DAYLIGHT
END:VTIMEZONE
END:VCALENDAR